BEGIN:VCALENDAR
VERSION:2.0
PRODID:-//Walton Options for Independent Living - ECPv6.15.18//NONSGML v1.0//EN
CALSCALE:GREGORIAN
METHOD:PUBLISH
X-WR-CALNAME:Walton Options for Independent Living
X-ORIGINAL-URL:https://waltonoptions.org
X-WR-CALDESC:Events for Walton Options for Independent Living
REFRESH-INTERVAL;VALUE=DURATION:PT1H
X-Robots-Tag:noindex
X-PUBLISHED-TTL:PT1H
BEGIN:VTIMEZONE
TZID:UTC
BEGIN:STANDARD
TZOFFSETFROM:+0000
TZOFFSETTO:+0000
TZNAME:UTC
DTSTART:20250101T000000
END:STANDARD
END:VTIMEZONE
BEGIN:VEVENT
DTSTART;VALUE=DATE:20260621
DTEND;VALUE=DATE:20260627
DTSTAMP:20260425T132040
CREATED:20260317T161035Z
LAST-MODIFIED:20260317T161035Z
UID:10000849-1782000000-1782518399@waltonoptions.org
SUMMARY:Walton Foundation Camp to be Independent
DESCRIPTION:At Camp To Be Independent\, kids with traumatic brain injuries can just be kids!\nIt’s our annual weeklong\, spend-the-night camp offered at no cost for children and young adults (ages 10-21) with disabilities resulting from a traumatic brain injury\, including: Injuries at birth\, Stroke\, Brain tumors\, and Trauma.\nCampers will be able to immerse themselves in all the fun and exciting activities Camp Twin Lakes has to offer.\nActivities include:\n*Paddle boating\nTo Horseback riding\n• Making s’mores by the campfire\nZiplining\nBA Rock climbing and more!\nAll outdoor activities are weather-dependent and may be substituted.\nFor more information\, click the link below or email Vicki Green at vigreene101@gmail.com to Register! Let’s create lasting memories and forge new friendships! \n 
URL:https://waltonoptions.org/event/walton-foundation-camp-to-be-independent/
LOCATION:Camp Twin Lakes Rutledge\, GA\, Keencheefoonee Road\, Rutledge\, GA\, 30663\, United States
GEO:33.5799262;-83.6351747
X-APPLE-STRUCTURED-LOCATION;VALUE=URI;X-ADDRESS=Camp Twin Lakes Rutledge GA Keencheefoonee Road Rutledge GA 30663 United States;X-APPLE-RADIUS=500;X-TITLE=Keencheefoonee Road:geo:-83.6351747,33.5799262
END:VEVENT
END:VCALENDAR