BEGIN:VCALENDAR
VERSION:2.0
PRODID:-//Walton Options for Independent Living - ECPv6.15.18//NONSGML v1.0//EN
CALSCALE:GREGORIAN
METHOD:PUBLISH
X-WR-CALNAME:Walton Options for Independent Living
X-ORIGINAL-URL:https://waltonoptions.org
X-WR-CALDESC:Events for Walton Options for Independent Living
REFRESH-INTERVAL;VALUE=DURATION:PT1H
X-Robots-Tag:noindex
X-PUBLISHED-TTL:PT1H
BEGIN:VTIMEZONE
TZID:UTC
BEGIN:STANDARD
TZOFFSETFROM:+0000
TZOFFSETTO:+0000
TZNAME:UTC
DTSTART:20240101T000000
END:STANDARD
END:VTIMEZONE
BEGIN:VEVENT
DTSTART;TZID=UTC:20260423T100000
DTEND;TZID=UTC:20260423T140000
DTSTAMP:20260423T212927
CREATED:20260311T152212Z
LAST-MODIFIED:20260311T152212Z
UID:10000838-1776938400-1776952800@waltonoptions.org
SUMMARY:10th Annual CSS Resource Fair
DESCRIPTION:We will be at the 10th Annual CSS Resource Fair\, come find our table!
URL:https://waltonoptions.org/event/10th-annual-css-resource-fair/
LOCATION:May Park Community Center\, 622 4th St\, Augusta\, GA\, 30901\, United States
GEO:33.4653483;-81.9593191
X-APPLE-STRUCTURED-LOCATION;VALUE=URI;X-ADDRESS=May Park Community Center 622 4th St Augusta GA 30901 United States;X-APPLE-RADIUS=500;X-TITLE=622 4th St:geo:-81.9593191,33.4653483
END:VEVENT
BEGIN:VEVENT
DTSTART;TZID=UTC:20260418T120000
DTEND;TZID=UTC:20260418T140000
DTSTAMP:20260423T212927
CREATED:20260210T181047Z
LAST-MODIFIED:20260210T181047Z
UID:10000815-1776513600-1776520800@waltonoptions.org
SUMMARY:Catalyst Sports: Kayaking
DESCRIPTION:Catalyst Sports is thrilled to bring adaptive cycling\, mountain biking\, and paddling to the vibrant Augusta community. Whether you’re looking to explore the outdoors\, challenge yourself\, or simply have fun\, our events are designed to help you access nature in a supportive and inclusive environment. \n​ \nWith state-of-the-art adaptive equipment\, trained volunteers\, and a welcoming community\, we’re here to ensure everyone has the chance to enjoy the freedom of outdoor recreation. \nContact Our Adaptive Sports Coordinator today for more information and assistance signing up: \n706.724.6262 \nor Lynn Seidemann at LSeidemann@waltonoptions.org \nwww.catalystsports.org/augusta
URL:https://waltonoptions.org/event/catalyst-sports-kayaking-3/
LOCATION:TENTATIVE Riverside Park\, 1 Dolphin Way\, Evans\, GA\, 30809\, United States
CATEGORIES:Sports & Leisure Event
END:VEVENT
BEGIN:VEVENT
DTSTART;TZID=UTC:20260413T110000
DTEND;TZID=UTC:20260413T123000
DTSTAMP:20260423T212927
CREATED:20260402T171252Z
LAST-MODIFIED:20260407T175752Z
UID:10000876-1776078000-1776083400@waltonoptions.org
SUMMARY:Ga vote 101
DESCRIPTION:Vote Ready Preparation\nThis training will concentrate on the current voting procedures in the state of Georgia.\nThe training will cover the following topics:\n\nRegistering to Vote in Georgia: What actions are legally permissible?\nAssisting Others: Who can be helped with voter registration?\nNursing Home Voting: Registration and absentee ballot submission processes.\nAbsentee Voting: Understanding the process.\nRequesting a Ballot: How to properly request a ballot.\nReturning the Ballot: Steps for submitting the completed ballot.
URL:https://waltonoptions.org/event/ga-vote-101/
LOCATION:GA
CATEGORIES:Hosted by Walton Options
ATTACH;FMTTYPE=image/jpeg:https://waltonoptions.org/wp-content/uploads/GA-Vote-101-1.jpg
END:VEVENT
BEGIN:VEVENT
DTSTART;TZID=UTC:20260411T080000
DTEND;TZID=UTC:20260411T170000
DTSTAMP:20260423T212927
CREATED:20260210T190330Z
LAST-MODIFIED:20260210T190330Z
UID:10000827-1775894400-1775926800@waltonoptions.org
SUMMARY:Catalyst Sports: 1 on 1 Cycling
DESCRIPTION:Catalyst Sports is thrilled to bring adaptive cycling\, mountain biking\, and paddling to the vibrant Augusta community. Whether you’re looking to explore the outdoors\, challenge yourself\, or simply have fun\, our events are designed to help you access nature in a supportive and inclusive environment. \n​ \nWith state-of-the-art adaptive equipment\, trained volunteers\, and a welcoming community\, we’re here to ensure everyone has the chance to enjoy the freedom of outdoor recreation. \nContact Our Adaptive Sports Coordinator today for more information and assistance signing up: \n706.724.6262 \nor Lynn Seidemann at LSeidemann@waltonoptions.org \nwww.catalystsports.org/augusta \n 
URL:https://waltonoptions.org/event/catalyst-sports-1-on-1-cycling/2026-04-11/
LOCATION:GA
CATEGORIES:Sports & Leisure Event
END:VEVENT
BEGIN:VEVENT
DTSTART;TZID=UTC:20260328T120000
DTEND;TZID=UTC:20260328T140000
DTSTAMP:20260423T212927
CREATED:20260210T180755Z
LAST-MODIFIED:20260210T180755Z
UID:10000814-1774699200-1774706400@waltonoptions.org
SUMMARY:Catalyst Sports: aMTB Mountain Biking
DESCRIPTION:Catalyst Sports is thrilled to bring adaptive cycling\, mountain biking\, and paddling to the vibrant Augusta community. Whether you’re looking to explore the outdoors\, challenge yourself\, or simply have fun\, our events are designed to help you access nature in a supportive and inclusive environment. \n​ \nWith state-of-the-art adaptive equipment\, trained volunteers\, and a welcoming community\, we’re here to ensure everyone has the chance to enjoy the freedom of outdoor recreation. \nContact Our Adaptive Sports Coordinator today for more information and assistance signing up: \n706.724.6262 \nor Lynn Seidemann at LSeidemann@waltonoptions.org \nwww.catalystsports.org/augusta \n 
URL:https://waltonoptions.org/event/catalyst-sports-amtb-mountain-biking/
LOCATION:Phinizy Swamp\, 1858 Lock and Dam Rd\, Augusta\, GA\, 30906\, United States
CATEGORIES:Sports & Leisure Event
GEO:33.3856624;-81.9638668
X-APPLE-STRUCTURED-LOCATION;VALUE=URI;X-ADDRESS=Phinizy Swamp 1858 Lock and Dam Rd Augusta GA 30906 United States;X-APPLE-RADIUS=500;X-TITLE=1858 Lock and Dam Rd:geo:-81.9638668,33.3856624
END:VEVENT
BEGIN:VEVENT
DTSTART;TZID=UTC:20260325T100000
DTEND;TZID=UTC:20260325T113000
DTSTAMP:20260423T212927
CREATED:20260311T151545Z
LAST-MODIFIED:20260317T144729Z
UID:10000837-1774432800-1774438200@waltonoptions.org
SUMMARY:Aging services Medicare workshop
DESCRIPTION:The Division of Aging service’s Georgia State Health Insurance Assistance Program is to educate your staff and the participants on resources available through the division of Aging Services. This includes education on Medicare\, preventive and wellness services\, and financial assistance programs. 
URL:https://waltonoptions.org/event/aging-services-medicare-workshop/
LOCATION:Walton Options Augusta Office\, 948 Walton Way\, Augusta\, GA 30901\, USA\, Augusta\, GA\, GA\, 30901\, United States
END:VEVENT
BEGIN:VEVENT
DTSTART;TZID=UTC:20260321T123000
DTEND;TZID=UTC:20260321T190000
DTSTAMP:20260423T212927
CREATED:20260319T133750Z
LAST-MODIFIED:20260319T133750Z
UID:10000850-1774096200-1774119600@waltonoptions.org
SUMMARY:The Augusta Video Gaming Exposition
DESCRIPTION:We will be at the Augusta Video Gaming Exposition\, stop by our table!
URL:https://waltonoptions.org/event/the-augusta-video-gaming-exposition/
LOCATION:DoubleTree by Hilton Hotel Augusta\, 2651 Perimeter Pkwy\, Augusta\, GA\, 30909\, United States
GEO:33.4859589;-82.0846985
X-APPLE-STRUCTURED-LOCATION;VALUE=URI;X-ADDRESS=DoubleTree by Hilton Hotel Augusta 2651 Perimeter Pkwy Augusta GA 30909 United States;X-APPLE-RADIUS=500;X-TITLE=2651 Perimeter Pkwy:geo:-82.0846985,33.4859589
END:VEVENT
BEGIN:VEVENT
DTSTART;TZID=UTC:20260314T080000
DTEND;TZID=UTC:20260314T170000
DTSTAMP:20260423T212927
CREATED:20260210T190330Z
LAST-MODIFIED:20260210T190330Z
UID:10000826-1773475200-1773507600@waltonoptions.org
SUMMARY:Catalyst Sports: 1 on 1 Cycling
DESCRIPTION:Catalyst Sports is thrilled to bring adaptive cycling\, mountain biking\, and paddling to the vibrant Augusta community. Whether you’re looking to explore the outdoors\, challenge yourself\, or simply have fun\, our events are designed to help you access nature in a supportive and inclusive environment. \n​ \nWith state-of-the-art adaptive equipment\, trained volunteers\, and a welcoming community\, we’re here to ensure everyone has the chance to enjoy the freedom of outdoor recreation. \nContact Our Adaptive Sports Coordinator today for more information and assistance signing up: \n706.724.6262 \nor Lynn Seidemann at LSeidemann@waltonoptions.org \nwww.catalystsports.org/augusta \n 
URL:https://waltonoptions.org/event/catalyst-sports-1-on-1-cycling/2026-03-14/
LOCATION:GA
CATEGORIES:Sports & Leisure Event
END:VEVENT
BEGIN:VEVENT
DTSTART;TZID=UTC:20260313T110000
DTEND;TZID=UTC:20260313T150000
DTSTAMP:20260423T212927
CREATED:20260313T132613Z
LAST-MODIFIED:20260313T132613Z
UID:10000845-1773399600-1773414000@waltonoptions.org
SUMMARY:Adaptive gaming
DESCRIPTION:This event is an absolute must-see for anyone who wants to peek into the future of accessible gaming. This event is free\, but registration is required.
URL:https://waltonoptions.org/event/adaptive-gaming-19/
LOCATION:Walton Options Augusta Office\, 948 Walton Way\, Augusta\, GA 30901\, USA\, Augusta\, GA\, GA\, 30901\, United States
CATEGORIES:Hosted by Walton Options
ORGANIZER;CN="Walton Options":MAILTO:advocacy@waltonoptions.org
END:VEVENT
BEGIN:VEVENT
DTSTART;TZID=UTC:20260306T140000
DTEND;TZID=UTC:20260306T160000
DTSTAMP:20260423T212927
CREATED:20260302T180800Z
LAST-MODIFIED:20260302T180800Z
UID:10000836-1772805600-1772812800@waltonoptions.org
SUMMARY:Milano Cortina 2026 Paralympic Opening Ceremony Watch Party
DESCRIPTION:Join us at Top Dawg Tavern to cheer on and celebrate Team USA! Come enjoy delicious food\, engaging games\, and exciting prizes.
URL:https://waltonoptions.org/event/milano-cortina-2026-paralympic-opening-ceremony-watch-party/
LOCATION:TOP DAWG TAVERN\, 2821 Washington Rd\, Augusta\, GA\, 30909\, United States
CATEGORIES:External Event,Hosted by Walton Options
ORGANIZER;CN="Walton Options":MAILTO:advocacy@waltonoptions.org
GEO:33.5109242;-82.0314226
X-APPLE-STRUCTURED-LOCATION;VALUE=URI;X-ADDRESS=TOP DAWG TAVERN 2821 Washington Rd Augusta GA 30909 United States;X-APPLE-RADIUS=500;X-TITLE=2821 Washington Rd:geo:-82.0314226,33.5109242
END:VEVENT
BEGIN:VEVENT
DTSTART;TZID=UTC:20260228T123000
DTEND;TZID=UTC:20260228T150000
DTSTAMP:20260423T212927
CREATED:20260115T163606Z
LAST-MODIFIED:20260122T173735Z
UID:10000544-1772281800-1772290800@waltonoptions.org
SUMMARY:Love shouldn't hurt: Workshop
DESCRIPTION:Unlock your inner energy and begin the journey towards emotional healing and renewed strength at this year’s Love Shouldn’t Hurt\, Healing Through Art a Guided painting workshop. This event welcomes survivors\, family members\, and loved ones of individuals who have faced domestic disability\, and/or elder abuse. \n*Refreshments and Community Resources will be provided \nSaturday\, February 28th \n12:30 PM to 3:00 PM \n739 Greene St\, Augusta\, GA 30901 \nThe Jessye Norman School of the Arts \nPresented by Walton Options & The Jessye Norman School of the Arts \n  \n>>>>>>>>>>>>>>>>>>>>>>>>>>>>>>>>>>>>>>>>>>>>>>>>>>>>>>>>>>>>>>>>>>>>>>>>>>>>> \nThis event is free\, but registration is required due to limited seating. \nFor more information\, please call 706-724-6262 or visit waltonoptions.org. If you have a disability and require reasonable accommodation to participate in this event\, please contact us by February 16th\, 2026.  \nIf this event is offered in-person only!
URL:https://waltonoptions.org/event/love-shouldnt-hurt-workshop/
LOCATION:The Jessye Norman School of the Arts\, 739 Greene St\, Augusta\, GA\, 30901\, United States
CATEGORIES:External Event,Hosted by Walton Options
GEO:33.4735026;-81.9658828
X-APPLE-STRUCTURED-LOCATION;VALUE=URI;X-ADDRESS=The Jessye Norman School of the Arts 739 Greene St Augusta GA 30901 United States;X-APPLE-RADIUS=500;X-TITLE=739 Greene St:geo:-81.9658828,33.4735026
END:VEVENT
BEGIN:VEVENT
DTSTART;TZID=UTC:20260228T120000
DTEND;TZID=UTC:20260228T140000
DTSTAMP:20260423T212927
CREATED:20260210T175508Z
LAST-MODIFIED:20260210T191012Z
UID:10000835-1772280000-1772287200@waltonoptions.org
SUMMARY:Catalyst Sports: Cycling
DESCRIPTION:Catalyst Sports is thrilled to bring adaptive cycling\, mountain biking\, and paddling to the vibrant Augusta community. Whether you’re looking to explore the outdoors\, challenge yourself\, or simply have fun\, our events are designed to help you access nature in a supportive and inclusive environment. \n​ \nWith state-of-the-art adaptive equipment\, trained volunteers\, and a welcoming community\, we’re here to ensure everyone has the chance to enjoy the freedom of outdoor recreation. \nContact Our Adaptive Sports Coordinator today for more information and assistance signing up: \n706.724.6262 \nor Lynn Seidemann at LSeidemann@waltonoptions.org \nwww.catalystsports.org/augusta \n 
URL:https://waltonoptions.org/event/catalyst-sports-cycling/
LOCATION:Hammond’s Ferry Soccer Complex\, Hammonds Ferry Rd\, North Augusta\, SC\, 29841\, United States
CATEGORIES:Sports & Leisure Event
GEO:33.4946539;-81.9873549
X-APPLE-STRUCTURED-LOCATION;VALUE=URI;X-ADDRESS=Hammond’s Ferry Soccer Complex Hammonds Ferry Rd North Augusta SC 29841 United States;X-APPLE-RADIUS=500;X-TITLE=Hammonds Ferry Rd:geo:-81.9873549,33.4946539
END:VEVENT
BEGIN:VEVENT
DTSTART;TZID=UTC:20260228T110000
DTEND;TZID=UTC:20260228T140000
DTSTAMP:20260423T212927
CREATED:20260203T160211Z
LAST-MODIFIED:20260203T160815Z
UID:10000812-1772276400-1772287200@waltonoptions.org
SUMMARY:Columbia County Schools Special Education Transition/ Resource Fair
DESCRIPTION:Stop by our table at the Columbia County Schools Special Education Transition/ Resource Fair!
URL:https://waltonoptions.org/event/columbia-county-schools-special-education-transition-resource-fair/
LOCATION:Evans high school\, 4550 Cox Rd\, Evans\, GA\, 30809\, United States
GEO:33.524715;-82.1473285
X-APPLE-STRUCTURED-LOCATION;VALUE=URI;X-ADDRESS=Evans high school 4550 Cox Rd Evans GA 30809 United States;X-APPLE-RADIUS=500;X-TITLE=4550 Cox Rd:geo:-82.1473285,33.524715
END:VEVENT
BEGIN:VEVENT
DTSTART;TZID=UTC:20260225T110000
DTEND;TZID=UTC:20260225T130000
DTSTAMP:20260423T212927
CREATED:20260205T190640Z
LAST-MODIFIED:20260205T190640Z
UID:10000813-1772017200-1772024400@waltonoptions.org
SUMMARY:Exercise Your Rights
DESCRIPTION:🌟 Exercise Your Rights! 🌟 \n\n\nJoin us for a fun and empowering event: “To Vote and Be Healthy!” 💪🗳 \n\n\nThis event is for everyone! Check your voter status and enjoy a Chair exercise demonstration from Day One Fitness and Complimentary table stretches offered by Stretch Lab Evans! \n\n\nMove your body and check your voter status all in one go! Let’s get active and ensure our voices are heard. See you there! 🙌
URL:https://waltonoptions.org/event/exercise-your-rights/
LOCATION:Walton Options Center for Disability Rights and Resources\, 948 Walton Way\, Augusta\, GA\, 30901\, United States
CATEGORIES:Hosted by Walton Options
ORGANIZER;CN="Walton Options":MAILTO:advocacy@waltonoptions.org
GEO:33.469169;-81.973029
X-APPLE-STRUCTURED-LOCATION;VALUE=URI;X-ADDRESS=Walton Options Center for Disability Rights and Resources 948 Walton Way Augusta GA 30901 United States;X-APPLE-RADIUS=500;X-TITLE=948 Walton Way:geo:-81.973029,33.469169
END:VEVENT
BEGIN:VEVENT
DTSTART;TZID=UTC:20260221T110000
DTEND;TZID=UTC:20260221T150000
DTSTAMP:20260423T212927
CREATED:20250819T203555Z
LAST-MODIFIED:20250819T203555Z
UID:10000469-1771671600-1771686000@waltonoptions.org
SUMMARY:Adaptive gaming
DESCRIPTION:This event is an absolute must-see for anyone who wants to peek into the future of accessible gaming. This event is free\, but registration is required.
URL:https://waltonoptions.org/event/adaptive-gaming-12/
LOCATION:Walton Options Augusta Office\, 948 Walton Way\, Augusta\, GA 30901\, USA\, Augusta\, GA\, GA\, 30901\, United States
CATEGORIES:Hosted by Walton Options
ORGANIZER;CN="Walton Options":MAILTO:advocacy@waltonoptions.org
END:VEVENT
BEGIN:VEVENT
DTSTART;TZID=UTC:20260214T080000
DTEND;TZID=UTC:20260214T170000
DTSTAMP:20260423T212927
CREATED:20260210T190330Z
LAST-MODIFIED:20260210T190330Z
UID:10000825-1771056000-1771088400@waltonoptions.org
SUMMARY:Catalyst Sports: 1 on 1 Cycling
DESCRIPTION:Catalyst Sports is thrilled to bring adaptive cycling\, mountain biking\, and paddling to the vibrant Augusta community. Whether you’re looking to explore the outdoors\, challenge yourself\, or simply have fun\, our events are designed to help you access nature in a supportive and inclusive environment. \n​ \nWith state-of-the-art adaptive equipment\, trained volunteers\, and a welcoming community\, we’re here to ensure everyone has the chance to enjoy the freedom of outdoor recreation. \nContact Our Adaptive Sports Coordinator today for more information and assistance signing up: \n706.724.6262 \nor Lynn Seidemann at LSeidemann@waltonoptions.org \nwww.catalystsports.org/augusta \n 
URL:https://waltonoptions.org/event/catalyst-sports-1-on-1-cycling/2026-02-14/
LOCATION:GA
CATEGORIES:Sports & Leisure Event
END:VEVENT
BEGIN:VEVENT
DTSTART;TZID=UTC:20260128T120000
DTEND;TZID=UTC:20260128T150000
DTSTAMP:20260423T212927
CREATED:20251113T201205Z
LAST-MODIFIED:20251113T201517Z
UID:10000485-1769601600-1769612400@waltonoptions.org
SUMMARY:Access4All Resource fair
DESCRIPTION:Join Walton Options for Independent Living for a resource fair at our Augusta office dedicated to supporting individuals from the sensory community\,\nincluding those who are Blind/Low Vision and Hard of Hearing/Deaf!
URL:https://waltonoptions.org/event/access4all-resource-fair/
LOCATION:Walton Options Augusta Office\, 948 Walton Way\, Augusta\, GA 30901\, USA\, Augusta\, GA\, GA\, 30901\, United States
CATEGORIES:Hosted by Walton Options
END:VEVENT
BEGIN:VEVENT
DTSTART;TZID=UTC:20260127T173000
DTEND;TZID=UTC:20260127T183000
DTSTAMP:20260423T212927
CREATED:20260115T155532Z
LAST-MODIFIED:20260115T155532Z
UID:10000543-1769535000-1769538600@waltonoptions.org
SUMMARY:P2P Family Learning Session
DESCRIPTION:Join for the topic of “What can I do to help my child transition to high school with additional support?”
URL:https://waltonoptions.org/event/p2p-family-learning-session-2/
LOCATION:
CATEGORIES:Virtual Event
END:VEVENT
BEGIN:VEVENT
DTSTART;TZID=UTC:20260127T120000
DTEND;TZID=UTC:20260127T130000
DTSTAMP:20260423T212927
CREATED:20260115T155152Z
LAST-MODIFIED:20260115T155152Z
UID:10000542-1769515200-1769518800@waltonoptions.org
SUMMARY:P2P Family Learning Session
DESCRIPTION:Join for the topic of “What can I do to help my child transition to high school with additional support?”
URL:https://waltonoptions.org/event/p2p-family-learning-session/
LOCATION:https://www.zoomgov.com/j/1607809109?pwd=afmZD5MwHbL4pb2CPxfla65xPqDLCu.1
CATEGORIES:Virtual Event
END:VEVENT
BEGIN:VEVENT
DTSTART;TZID=UTC:20260118T133000
DTEND;TZID=UTC:20260118T160000
DTSTAMP:20260423T212927
CREATED:20251202T190527Z
LAST-MODIFIED:20251202T190527Z
UID:10000499-1768743000-1768752000@waltonoptions.org
SUMMARY:Accessible Pickleball Sundays
DESCRIPTION:Come and enjoy accessible pickleball! occurring every Sunday for more information contact Walton options or Lseidemann@waltonoptions.org
URL:https://waltonoptions.org/event/accessible-pickleball-sundays-30/
LOCATION:The Riverview Park Activity Center\, 100 Riverview Park\, North Augusta\, SC\, 29841\, United States
CATEGORIES:Sports & Leisure Event
END:VEVENT
BEGIN:VEVENT
DTSTART;TZID=UTC:20260118T133000
DTEND;TZID=UTC:20260118T160000
DTSTAMP:20260423T212927
CREATED:20250307T151601Z
LAST-MODIFIED:20260121T174514Z
UID:10000193-1768743000-1768752000@waltonoptions.org
SUMMARY:Accessible Pickleball Sundays
DESCRIPTION:Come and enjoy accessible pickleball! occurring every Sunday for more information contact Walton options or Lseidemann@waltonoptions.org
URL:https://waltonoptions.org/event/accessible-pickleball-sundays/2026-01-18/
LOCATION:Riverview Park Activities Center\, Riverview Park Drive\, North Augusta\, SC\, 29841\, United States
GEO:33.4991024;-81.9882303
X-APPLE-STRUCTURED-LOCATION;VALUE=URI;X-ADDRESS=Riverview Park Activities Center Riverview Park Drive North Augusta SC 29841 United States;X-APPLE-RADIUS=500;X-TITLE=Riverview Park Drive:geo:-81.9882303,33.4991024
END:VEVENT
BEGIN:VEVENT
DTSTART;TZID=UTC:20260115T120000
DTEND;TZID=UTC:20260115T140000
DTSTAMP:20260423T212927
CREATED:20250919T145559Z
LAST-MODIFIED:20250919T145559Z
UID:10000472-1768478400-1768485600@waltonoptions.org
SUMMARY:WOIL presentation at Elim Baptist Church
DESCRIPTION:We will be giving a presentation on all things Walton Options at Elim Baptist Chruch.
URL:https://waltonoptions.org/event/woil-presentation-at-elim-baptist-church/
LOCATION:Elim Baptist Church\, 2359 Mount Auburn St\, Augusta\, GA\, 30904\, United States
GEO:33.4818641;-82.0186948
X-APPLE-STRUCTURED-LOCATION;VALUE=URI;X-ADDRESS=Elim Baptist Church 2359 Mount Auburn St Augusta GA 30904 United States;X-APPLE-RADIUS=500;X-TITLE=2359 Mount Auburn St:geo:-82.0186948,33.4818641
END:VEVENT
BEGIN:VEVENT
DTSTART;TZID=UTC:20260111T133000
DTEND;TZID=UTC:20260111T160000
DTSTAMP:20260423T212927
CREATED:20250307T151601Z
LAST-MODIFIED:20260121T174514Z
UID:10000192-1768138200-1768147200@waltonoptions.org
SUMMARY:Accessible Pickleball Sundays
DESCRIPTION:Come and enjoy accessible pickleball! occurring every Sunday for more information contact Walton options or Lseidemann@waltonoptions.org
URL:https://waltonoptions.org/event/accessible-pickleball-sundays/2026-01-11/
LOCATION:Riverview Park Activities Center\, Riverview Park Drive\, North Augusta\, SC\, 29841\, United States
GEO:33.4991024;-81.9882303
X-APPLE-STRUCTURED-LOCATION;VALUE=URI;X-ADDRESS=Riverview Park Activities Center Riverview Park Drive North Augusta SC 29841 United States;X-APPLE-RADIUS=500;X-TITLE=Riverview Park Drive:geo:-81.9882303,33.4991024
END:VEVENT
BEGIN:VEVENT
DTSTART;TZID=UTC:20260111T113000
DTEND;TZID=UTC:20260111T160000
DTSTAMP:20260423T212927
CREATED:20251202T185954Z
LAST-MODIFIED:20251202T185954Z
UID:10000498-1768131000-1768147200@waltonoptions.org
SUMMARY:Accessible Pickleball Sundays
DESCRIPTION:Come and enjoy accessible pickleball! occurring every Sunday for more information contact Walton options or Lseidemann@waltonoptions.org
URL:https://waltonoptions.org/event/accessible-pickleball-sundays-29/
LOCATION:The Riverview Park Activity Center\, 100 Riverview Park\, North Augusta\, SC\, 29841\, United States
CATEGORIES:Sports & Leisure Event
END:VEVENT
BEGIN:VEVENT
DTSTART;TZID=UTC:20260108T120000
DTEND;TZID=UTC:20260108T140000
DTSTAMP:20260423T212927
CREATED:20250819T203306Z
LAST-MODIFIED:20250819T203306Z
UID:10000468-1767873600-1767880800@waltonoptions.org
SUMMARY:Adaptive gaming
DESCRIPTION:This event is an absolute must-see for anyone who wants to peek into the future of accessible gaming. This event is free\, but registration is required.
URL:https://waltonoptions.org/event/adaptive-gaming-11/
LOCATION:Walton Options Augusta Office\, 948 Walton Way\, Augusta\, GA 30901\, USA\, Augusta\, GA\, GA\, 30901\, United States
CATEGORIES:Hosted by Walton Options
ORGANIZER;CN="Walton Options":MAILTO:advocacy@waltonoptions.org
END:VEVENT
BEGIN:VEVENT
DTSTART;TZID=UTC:20251213T110000
DTEND;TZID=UTC:20251213T150000
DTSTAMP:20260423T212927
CREATED:20251021T191415Z
LAST-MODIFIED:20251021T191415Z
UID:10000479-1765623600-1765638000@waltonoptions.org
SUMMARY:Winterfest Adaptive E-Gaming Event
DESCRIPTION:Calling all gamers—beginners to pros!\nDive into the ultimate gaming experience with the latest\ntech\, from adaptive controllers to immersive VR adventures.
URL:https://waltonoptions.org/event/winterfest-adaptive-e-gaming-event/
LOCATION:Walton Options Augusta Office\, 948 Walton Way\, Augusta\, GA 30901\, USA\, Augusta\, GA\, GA\, 30901\, United States
CATEGORIES:Hosted by Walton Options
ORGANIZER;CN="Walton Options":MAILTO:advocacy@waltonoptions.org
END:VEVENT
BEGIN:VEVENT
DTSTART;TZID=UTC:20251213T110000
DTEND;TZID=UTC:20251213T150000
DTSTAMP:20260423T212927
CREATED:20250819T203051Z
LAST-MODIFIED:20250819T203051Z
UID:10000467-1765623600-1765638000@waltonoptions.org
SUMMARY:Adaptive gaming
DESCRIPTION:This event is an absolute must-see for anyone who wants to peek into the future of accessible gaming. This event is free\, but registration is required.
URL:https://waltonoptions.org/event/adaptive-gaming-10/
LOCATION:Walton Options Augusta Office\, 948 Walton Way\, Augusta\, GA 30901\, USA\, Augusta\, GA\, GA\, 30901\, United States
CATEGORIES:Hosted by Walton Options
ORGANIZER;CN="Walton Options":MAILTO:advocacy@waltonoptions.org
END:VEVENT
BEGIN:VEVENT
DTSTART;TZID=UTC:20251207T133000
DTEND;TZID=UTC:20251207T160000
DTSTAMP:20260423T212927
CREATED:20251202T160200Z
LAST-MODIFIED:20251202T160200Z
UID:10000495-1765114200-1765123200@waltonoptions.org
SUMMARY:Accessible Pickleball Sundays
DESCRIPTION:Come and enjoy accessible pickleball! occurring every Sunday for more information contact Walton options or Lseidemann@waltonoptions.org
URL:https://waltonoptions.org/event/accessible-pickleball-sundays-26/
LOCATION:The Riverview Park Activity Center\, 100 Riverview Park\, North Augusta\, SC\, 29841\, United States
CATEGORIES:Sports & Leisure Event
END:VEVENT
BEGIN:VEVENT
DTSTART;TZID=UTC:20251207T133000
DTEND;TZID=UTC:20251207T160000
DTSTAMP:20260423T212927
CREATED:20250307T151601Z
LAST-MODIFIED:20260121T174514Z
UID:10000187-1765114200-1765123200@waltonoptions.org
SUMMARY:Accessible Pickleball Sundays
DESCRIPTION:Come and enjoy accessible pickleball! occurring every Sunday for more information contact Walton options or Lseidemann@waltonoptions.org
URL:https://waltonoptions.org/event/accessible-pickleball-sundays/2025-12-07/
LOCATION:Riverview Park Activities Center\, Riverview Park Drive\, North Augusta\, SC\, 29841\, United States
GEO:33.4991024;-81.9882303
X-APPLE-STRUCTURED-LOCATION;VALUE=URI;X-ADDRESS=Riverview Park Activities Center Riverview Park Drive North Augusta SC 29841 United States;X-APPLE-RADIUS=500;X-TITLE=Riverview Park Drive:geo:-81.9882303,33.4991024
END:VEVENT
BEGIN:VEVENT
DTSTART;TZID=UTC:20251130T133000
DTEND;TZID=UTC:20251130T160000
DTSTAMP:20260423T212927
CREATED:20251202T160007Z
LAST-MODIFIED:20251202T160007Z
UID:10000494-1764509400-1764518400@waltonoptions.org
SUMMARY:Accessible Pickleball Sundays
DESCRIPTION:Come and enjoy accessible pickleball! occurring every Sunday for more information contact Walton options or Lseidemann@waltonoptions.org
URL:https://waltonoptions.org/event/accessible-pickleball-sundays-25/
LOCATION:The Riverview Park Activity Center\, 100 Riverview Park\, North Augusta\, SC\, 29841\, United States
CATEGORIES:Sports & Leisure Event
END:VEVENT
END:VCALENDAR