BEGIN:VCALENDAR
VERSION:2.0
PRODID:-//Walton Options for Independent Living - ECPv6.15.18//NONSGML v1.0//EN
CALSCALE:GREGORIAN
METHOD:PUBLISH
X-WR-CALNAME:Walton Options for Independent Living
X-ORIGINAL-URL:https://waltonoptions.org
X-WR-CALDESC:Events for Walton Options for Independent Living
REFRESH-INTERVAL;VALUE=DURATION:PT1H
X-Robots-Tag:noindex
X-PUBLISHED-TTL:PT1H
BEGIN:VTIMEZONE
TZID:UTC
BEGIN:STANDARD
TZOFFSETFROM:+0000
TZOFFSETTO:+0000
TZNAME:UTC
DTSTART:20230101T000000
END:STANDARD
END:VTIMEZONE
BEGIN:VEVENT
DTSTART;TZID=UTC:20240417T110000
DTEND;TZID=UTC:20240417T140000
DTSTAMP:20260424T002033
CREATED:20240320T165039Z
LAST-MODIFIED:20240320T165039Z
UID:10000011-1713351600-1713362400@waltonoptions.org
SUMMARY:Assistive Technology Day
DESCRIPTION:Come and see how AT can help you gain or maintain a more independent lifestyle! \nEvent will be held at: 948 WALTON WAY AUGUSTA\, GA 30901 \nOn April 17th 11:00 AM – 2:00 PM
URL:https://waltonoptions.org/event/assistive-technology-day/
LOCATION:Walton Options Augusta Office\, 948 Walton Way\, Augusta\, GA 30901\, USA\, Augusta\, GA\, GA\, 30901\, United States
CATEGORIES:Hosted by Walton Options
ORGANIZER;CN="Walton Options":MAILTO:advocacy@waltonoptions.org
END:VEVENT
BEGIN:VEVENT
DTSTART;TZID=UTC:20240426T100000
DTEND;TZID=UTC:20240426T140000
DTSTAMP:20260424T002033
CREATED:20240425T181136Z
LAST-MODIFIED:20240425T181136Z
UID:10000027-1714125600-1714140000@waltonoptions.org
SUMMARY:SC Work: RURAL CONNECTIONS
DESCRIPTION:Come and see us at the SC Work: Rural connections event!
URL:https://waltonoptions.org/event/sc-work-rural-connections/
LOCATION:James Brant Building 398 Barnwell Highway Allendale\, sc 29810\, 398 Barnwell Highway\, Allendale\, SC\, 29810\, United States
GEO:33.0167163;-81.3094802
X-APPLE-STRUCTURED-LOCATION;VALUE=URI;X-ADDRESS=James Brant Building 398 Barnwell Highway Allendale sc 29810 398 Barnwell Highway Allendale SC 29810 United States;X-APPLE-RADIUS=500;X-TITLE=398 Barnwell Highway:geo:-81.3094802,33.0167163
END:VEVENT
BEGIN:VEVENT
DTSTART;TZID=UTC:20240429T123000
DTEND;TZID=UTC:20240429T143000
DTSTAMP:20260424T002033
CREATED:20240425T181849Z
LAST-MODIFIED:20240425T181849Z
UID:10000028-1714393800-1714401000@waltonoptions.org
SUMMARY:Nutritional Presentation
DESCRIPTION:Come see our Nutritional Presentation at Carrie J. Mays Park!
URL:https://waltonoptions.org/event/nutritional-presentation/
LOCATION:Carrie J. Mays Park\, 1014 11th Ave\, Augusta\, GA\, 30901\, United States
GEO:33.4467917;-81.9947255
X-APPLE-STRUCTURED-LOCATION;VALUE=URI;X-ADDRESS=Carrie J. Mays Park 1014 11th Ave Augusta GA 30901 United States;X-APPLE-RADIUS=500;X-TITLE=1014 11th Ave:geo:-81.9947255,33.4467917
END:VEVENT
BEGIN:VEVENT
DTSTART;VALUE=DATE:20240430
DTEND;VALUE=DATE:20240501
DTSTAMP:20260424T002033
CREATED:20240320T175030Z
LAST-MODIFIED:20240320T175030Z
UID:10000012-1714435200-1714521599@waltonoptions.org
SUMMARY:Education Day 2024
DESCRIPTION:Come see us at our table at the Augusta Green Jackets Education Day! \nEvent will be held at: SRP Park 187 Railroad Ave\, North Augusta\, SC 29841 \nOn Tuesday\, April 30th gates open at 9:30 am game starts 11:05 am
URL:https://waltonoptions.org/event/education-day-2024/
LOCATION:SRP Park\, 187 Railroad Ave\, North Augusta\, SC\, 29841\, United States
GEO:33.486295;-81.978114
X-APPLE-STRUCTURED-LOCATION;VALUE=URI;X-ADDRESS=SRP Park 187 Railroad Ave North Augusta SC 29841 United States;X-APPLE-RADIUS=500;X-TITLE=187 Railroad Ave:geo:-81.978114,33.486295
END:VEVENT
BEGIN:VEVENT
DTSTART;TZID=UTC:20240501T100000
DTEND;TZID=UTC:20240501T140000
DTSTAMP:20260424T002033
CREATED:20240502T143739Z
LAST-MODIFIED:20240502T143739Z
UID:10000038-1714557600-1714572000@waltonoptions.org
SUMMARY:VA Medical center Wellness Wednesday
DESCRIPTION:Come join us at the VA Medical center Wellness Wednesday!
URL:https://waltonoptions.org/event/va-medical-center-wellness-wednesday/
LOCATION:Va Medical center\, 950 15th Street\, Augusta\, GA\, 30904\, United States
GEO:33.4728718;-81.988891
X-APPLE-STRUCTURED-LOCATION;VALUE=URI;X-ADDRESS=Va Medical center 950 15th Street Augusta GA 30904 United States;X-APPLE-RADIUS=500;X-TITLE=950 15th Street:geo:-81.988891,33.4728718
END:VEVENT
BEGIN:VEVENT
DTSTART;TZID=UTC:20240501T103000
DTEND;TZID=UTC:20240501T130000
DTSTAMP:20260424T002033
CREATED:20240429T125240Z
LAST-MODIFIED:20240430T125027Z
UID:10000035-1714559400-1714568400@waltonoptions.org
SUMMARY:Adaptive Gaming Demo and Mobile Lab
DESCRIPTION:Come join us at the Adaptive Gaming Demo at Lincoln County Library!
URL:https://waltonoptions.org/event/adaptive-gaming-demo-and-mobile-lab/
LOCATION:Lincoln County Library\, 181 N Peachtree St\, Lincolnton\, GA\, 30817\, United States
CATEGORIES:Hosted by Walton Options
ORGANIZER;CN="Walton Options":MAILTO:advocacy@waltonoptions.org
GEO:33.7944016;-82.4778986
X-APPLE-STRUCTURED-LOCATION;VALUE=URI;X-ADDRESS=Lincoln County Library 181 N Peachtree St Lincolnton GA 30817 United States;X-APPLE-RADIUS=500;X-TITLE=181 N Peachtree St:geo:-82.4778986,33.7944016
END:VEVENT
BEGIN:VEVENT
DTSTART;VALUE=DATE:20240503
DTEND;VALUE=DATE:20240506
DTSTAMP:20260424T002033
CREATED:20240416T141306Z
LAST-MODIFIED:20240416T141306Z
UID:10000018-1714694400-1714953599@waltonoptions.org
SUMMARY:Garden City Wheelchair Tennis Tournament
DESCRIPTION:The Garden City Wheelchair Tennis Classic is here. Join us for a fun weekend of competition and comradery as we celebrate the memory and legacy of Donald Shapiro.
URL:https://waltonoptions.org/event/garden-city-wheelchair-tennis-tournament/
LOCATION:Newman Tennis Center\, 3103 Wrightsboro Rd\,\, Augusta\, GA\, 30909\, United States
CATEGORIES:Sports & Leisure Event
ORGANIZER;CN="Walton Options":MAILTO:advocacy@waltonoptions.org
GEO:33.4710644;-82.0479924
X-APPLE-STRUCTURED-LOCATION;VALUE=URI;X-ADDRESS=Newman Tennis Center 3103 Wrightsboro Rd Augusta GA 30909 United States;X-APPLE-RADIUS=500;X-TITLE=3103 Wrightsboro Rd\,:geo:-82.0479924,33.4710644
END:VEVENT
BEGIN:VEVENT
DTSTART;TZID=UTC:20240509T080000
DTEND;TZID=UTC:20240509T170000
DTSTAMP:20260424T002033
CREATED:20240321T144257Z
LAST-MODIFIED:20240321T144257Z
UID:10000015-1715241600-1715274000@waltonoptions.org
SUMMARY:Adaptive gaming demo day
DESCRIPTION:Get ready to level up your gaming with the hottest and coolest accessible gaming technology! Our Adaptive Gaming Demo Days will showcase a variety of adaptive controllers\, switches\, and interfaces\, making it possible for every gamer to tailor their experience just for them!\nScan the QR code or click to register
URL:https://waltonoptions.org/event/adaptive-gaming-demo-day/2024-05-09/
LOCATION:Walton Options Augusta Office\, 948 Walton Way\, Augusta\, GA 30901\, USA\, Augusta\, GA\, GA\, 30901\, United States
END:VEVENT
BEGIN:VEVENT
DTSTART;TZID=UTC:20240511T100000
DTEND;TZID=UTC:20240511T130000
DTSTAMP:20260424T002033
CREATED:20240425T183320Z
LAST-MODIFIED:20240425T183320Z
UID:10000029-1715421600-1715432400@waltonoptions.org
SUMMARY:Aiken Public safety opening
DESCRIPTION:Come and see us at the Aiken Public safety opening!
URL:https://waltonoptions.org/event/aiken-public-safety-opening/
LOCATION:City of Aiken Public Safety\, 834 Beaufort St NE\, Aiken\, SC\, 29801\, United States
GEO:33.5704107;-81.6977431
X-APPLE-STRUCTURED-LOCATION;VALUE=URI;X-ADDRESS=City of Aiken Public Safety 834 Beaufort St NE Aiken SC 29801 United States;X-APPLE-RADIUS=500;X-TITLE=834 Beaufort St NE:geo:-81.6977431,33.5704107
END:VEVENT
BEGIN:VEVENT
DTSTART;VALUE=DATE:20240514
DTEND;VALUE=DATE:20240515
DTSTAMP:20260424T002033
CREATED:20240320T175509Z
LAST-MODIFIED:20240320T175509Z
UID:10000013-1715644800-1715731199@waltonoptions.org
SUMMARY:Education Day 2024
DESCRIPTION:Come see us at our table at the Augusta Green Jackets Education Day! \nEvent will be held at: SRP Park 187 Railroad Ave\, North Augusta\, SC 29841 \nOn Tuesday\, May 14th gates open at 9:30 am game starts 11:05 am
URL:https://waltonoptions.org/event/education-day-2024-2/
LOCATION:SRP Park\, 187 Railroad Ave\, North Augusta\, SC\, 29841\, United States
GEO:33.486295;-81.978114
X-APPLE-STRUCTURED-LOCATION;VALUE=URI;X-ADDRESS=SRP Park 187 Railroad Ave North Augusta SC 29841 United States;X-APPLE-RADIUS=500;X-TITLE=187 Railroad Ave:geo:-81.978114,33.486295
END:VEVENT
BEGIN:VEVENT
DTSTART;TZID=UTC:20240514T110000
DTEND;TZID=UTC:20240514T120000
DTSTAMP:20260424T002033
CREATED:20240614T165952Z
LAST-MODIFIED:20240614T165952Z
UID:10000045-1715684400-1715688000@waltonoptions.org
SUMMARY:Chair exercise 101
DESCRIPTION:Get ready for a good workout Join our Sports and Leisure Team for Chair Exercise 101! You will be guided through a series of simple yet heart-healthy exercises that will get your blood flowing\, all while seated or using your chair.
URL:https://waltonoptions.org/event/chair-exercise-101-2/2024-05-14/
LOCATION:Walton Options Center for Disability Rights and Resources\, 948 Walton Way\, Augusta\, GA\, 30901\, United States
CATEGORIES:Hosted by Walton Options,Sports & Leisure Event
ORGANIZER;CN="Walton Options":MAILTO:advocacy@waltonoptions.org
GEO:33.469169;-81.973029
X-APPLE-STRUCTURED-LOCATION;VALUE=URI;X-ADDRESS=Walton Options Center for Disability Rights and Resources 948 Walton Way Augusta GA 30901 United States;X-APPLE-RADIUS=500;X-TITLE=948 Walton Way:geo:-81.973029,33.469169
END:VEVENT
BEGIN:VEVENT
DTSTART;VALUE=DATE:20240515
DTEND;VALUE=DATE:20240516
DTSTAMP:20260424T002033
CREATED:20240425T144926Z
LAST-MODIFIED:20240425T145022Z
UID:10000019-1715731200-1715817599@waltonoptions.org
SUMMARY:Tea with Lisa
DESCRIPTION:Join Lisa and guests every 3rd Wednesday of the month on Walton options Facebook to hear the tea about Disability Resources & Services available in the CSRA.
URL:https://waltonoptions.org/event/8368/2024-05-15/
LOCATION:Online
END:VEVENT
BEGIN:VEVENT
DTSTART;TZID=UTC:20240516T100000
DTEND;TZID=UTC:20240516T140000
DTSTAMP:20260424T002033
CREATED:20240425T201401Z
LAST-MODIFIED:20240425T201401Z
UID:10000031-1715853600-1715868000@waltonoptions.org
SUMMARY:CSS Resource Fair
DESCRIPTION:Come join us at the CSS Resource Fair!
URL:https://waltonoptions.org/event/css-resource-fair/
LOCATION:May Park Community Center\, 622 4th St\, Augusta\, GA\, 30901\, United States
GEO:33.4653483;-81.9593191
X-APPLE-STRUCTURED-LOCATION;VALUE=URI;X-ADDRESS=May Park Community Center 622 4th St Augusta GA 30901 United States;X-APPLE-RADIUS=500;X-TITLE=622 4th St:geo:-81.9593191,33.4653483
END:VEVENT
BEGIN:VEVENT
DTSTART;TZID=UTC:20240518T090000
DTEND;TZID=UTC:20240518T120000
DTSTAMP:20260424T002033
CREATED:20240425T202333Z
LAST-MODIFIED:20240425T202333Z
UID:10000032-1716022800-1716033600@waltonoptions.org
SUMMARY:Mental Health Walk
DESCRIPTION:Come join us at the Mental Health Walk in Aiken!
URL:https://waltonoptions.org/event/mental-health-walk/
LOCATION:Aiken walk\, 1000 Clyburn place\, Aiken\, SC\, 29801\, United States
GEO:33.573141;-81.712373
X-APPLE-STRUCTURED-LOCATION;VALUE=URI;X-ADDRESS=Aiken walk 1000 Clyburn place Aiken SC 29801 United States;X-APPLE-RADIUS=500;X-TITLE=1000 Clyburn place:geo:-81.712373,33.573141
END:VEVENT
BEGIN:VEVENT
DTSTART;TZID=UTC:20240522T100000
DTEND;TZID=UTC:20240522T113000
DTSTAMP:20260424T002033
CREATED:20240429T130751Z
LAST-MODIFIED:20240430T125346Z
UID:10000036-1716372000-1716377400@waltonoptions.org
SUMMARY:Mobile AT Lab
DESCRIPTION:Come join us at the Mobile AT Lab in Lincoln County Senior Center!
URL:https://waltonoptions.org/event/mobile-at-lab/
LOCATION:Lincoln County Senior Center\, 612 Center Dr\, Lincolnton\, NC\, 28093\, United States
ORGANIZER;CN="Walton Options":MAILTO:advocacy@waltonoptions.org
GEO:35.4696592;-81.2416756
X-APPLE-STRUCTURED-LOCATION;VALUE=URI;X-ADDRESS=Lincoln County Senior Center 612 Center Dr Lincolnton NC 28093 United States;X-APPLE-RADIUS=500;X-TITLE=612 Center Dr:geo:-81.2416756,35.4696592
END:VEVENT
BEGIN:VEVENT
DTSTART;TZID=UTC:20240523T090000
DTEND;TZID=UTC:20240523T130000
DTSTAMP:20260424T002033
CREATED:20240425T203726Z
LAST-MODIFIED:20240425T203726Z
UID:10000033-1716454800-1716469200@waltonoptions.org
SUMMARY:Springfield Baptist wellness day
DESCRIPTION:Come join us for Springfield Baptist wellness day!
URL:https://waltonoptions.org/event/springfield-baptist-wellness-day/
LOCATION:Springfield Baptist Church\, 523 Martin Luther King St\, Thomson\, GA\, 30824\, United States
GEO:33.4739778;-82.5033191
X-APPLE-STRUCTURED-LOCATION;VALUE=URI;X-ADDRESS=Springfield Baptist Church 523 Martin Luther King St Thomson GA 30824 United States;X-APPLE-RADIUS=500;X-TITLE=523 Martin Luther King St:geo:-82.5033191,33.4739778
END:VEVENT
BEGIN:VEVENT
DTSTART;TZID=UTC:20240530T090000
DTEND;TZID=UTC:20240530T213000
DTSTAMP:20260424T002033
CREATED:20240425T204619Z
LAST-MODIFIED:20240425T204619Z
UID:10000034-1717059600-1717104600@waltonoptions.org
SUMMARY:Taliaferro Wellness day
DESCRIPTION:Come join us for Taliaferro Wellness day !
URL:https://waltonoptions.org/event/taliaferro-wellness-day/
LOCATION:Taliaferro County Courthouse\, 113 Monument St SE Ste 101\, Crawfordville\, GA\, 30631\, United States
GEO:33.5546269;-82.8966547
X-APPLE-STRUCTURED-LOCATION;VALUE=URI;X-ADDRESS=Taliaferro County Courthouse 113 Monument St SE Ste 101 Crawfordville GA 30631 United States;X-APPLE-RADIUS=500;X-TITLE=113 Monument St SE Ste 101:geo:-82.8966547,33.5546269
END:VEVENT
BEGIN:VEVENT
DTSTART;TZID=UTC:20240606T080000
DTEND;TZID=UTC:20240606T170000
DTSTAMP:20260424T002033
CREATED:20240321T144257Z
LAST-MODIFIED:20240321T144257Z
UID:10000016-1717660800-1717693200@waltonoptions.org
SUMMARY:Adaptive gaming demo day
DESCRIPTION:Get ready to level up your gaming with the hottest and coolest accessible gaming technology! Our Adaptive Gaming Demo Days will showcase a variety of adaptive controllers\, switches\, and interfaces\, making it possible for every gamer to tailor their experience just for them!\nScan the QR code or click to register
URL:https://waltonoptions.org/event/adaptive-gaming-demo-day/2024-06-06/
LOCATION:Walton Options Augusta Office\, 948 Walton Way\, Augusta\, GA 30901\, USA\, Augusta\, GA\, GA\, 30901\, United States
END:VEVENT
BEGIN:VEVENT
DTSTART;VALUE=DATE:20240609
DTEND;VALUE=DATE:20240610
DTSTAMP:20260424T002033
CREATED:20240516T135049Z
LAST-MODIFIED:20240516T135049Z
UID:10000039-1717891200-1717977599@waltonoptions.org
SUMMARY:Walton Options Inclusive Community Night with the Green Jackets
DESCRIPTION:Come join us at the Inclusive community night at the green jackets!
URL:https://waltonoptions.org/event/walton-options-inclusive-community-night-with-the-green-jackets/
LOCATION:SRP Park\, 187 Railroad Ave\, North Augusta\, SC\, 29841\, United States
GEO:33.486295;-81.978114
X-APPLE-STRUCTURED-LOCATION;VALUE=URI;X-ADDRESS=SRP Park 187 Railroad Ave North Augusta SC 29841 United States;X-APPLE-RADIUS=500;X-TITLE=187 Railroad Ave:geo:-81.978114,33.486295
END:VEVENT
BEGIN:VEVENT
DTSTART;TZID=UTC:20240611T103000
DTEND;TZID=UTC:20240611T113000
DTSTAMP:20260424T002033
CREATED:20240429T131522Z
LAST-MODIFIED:20240430T125807Z
UID:10000037-1718101800-1718105400@waltonoptions.org
SUMMARY:Mobile AT Lab
DESCRIPTION:Come join us for our Mobile AT Lab in Taliaferro County Senior Center!
URL:https://waltonoptions.org/event/mobile-at-lab-2/
LOCATION:Taliaferro County Senior Center\, 119 Commerce Street\, Crawfordville\, GA\, 30631\, United States
GEO:33.5553329;-82.8968229
X-APPLE-STRUCTURED-LOCATION;VALUE=URI;X-ADDRESS=Taliaferro County Senior Center 119 Commerce Street Crawfordville GA 30631 United States;X-APPLE-RADIUS=500;X-TITLE=119 Commerce Street:geo:-82.8968229,33.5553329
END:VEVENT
BEGIN:VEVENT
DTSTART;TZID=UTC:20240611T110000
DTEND;TZID=UTC:20240611T120000
DTSTAMP:20260424T002033
CREATED:20240614T165952Z
LAST-MODIFIED:20240614T165952Z
UID:10000046-1718103600-1718107200@waltonoptions.org
SUMMARY:Chair exercise 101
DESCRIPTION:Get ready for a good workout Join our Sports and Leisure Team for Chair Exercise 101! You will be guided through a series of simple yet heart-healthy exercises that will get your blood flowing\, all while seated or using your chair.
URL:https://waltonoptions.org/event/chair-exercise-101-2/2024-06-11/
LOCATION:Walton Options Center for Disability Rights and Resources\, 948 Walton Way\, Augusta\, GA\, 30901\, United States
CATEGORIES:Hosted by Walton Options,Sports & Leisure Event
ORGANIZER;CN="Walton Options":MAILTO:advocacy@waltonoptions.org
GEO:33.469169;-81.973029
X-APPLE-STRUCTURED-LOCATION;VALUE=URI;X-ADDRESS=Walton Options Center for Disability Rights and Resources 948 Walton Way Augusta GA 30901 United States;X-APPLE-RADIUS=500;X-TITLE=948 Walton Way:geo:-81.973029,33.469169
END:VEVENT
BEGIN:VEVENT
DTSTART;TZID=UTC:20240615T160000
DTEND;TZID=UTC:20240615T210000
DTSTAMP:20260424T002033
CREATED:20240614T142230Z
LAST-MODIFIED:20240614T142230Z
UID:10000040-1718467200-1718485200@waltonoptions.org
SUMMARY:Juneteenth celebration event
DESCRIPTION:Come join us at the Juneteenth celebration event at the Augusta Commons!
URL:https://waltonoptions.org/event/juneteenth-celebration-event/
LOCATION:Augusta Commons\, 836 Reynolds st\, Augusta\, GA\, 30901\, United States
GEO:33.4761635;-81.9661704
X-APPLE-STRUCTURED-LOCATION;VALUE=URI;X-ADDRESS=Augusta Commons 836 Reynolds st Augusta GA 30901 United States;X-APPLE-RADIUS=500;X-TITLE=836 Reynolds st:geo:-81.9661704,33.4761635
END:VEVENT
BEGIN:VEVENT
DTSTART;TZID=UTC:20240618T110000
DTEND;TZID=UTC:20240618T130000
DTSTAMP:20260424T002033
CREATED:20240614T163917Z
LAST-MODIFIED:20240614T163917Z
UID:10000044-1718708400-1718715600@waltonoptions.org
SUMMARY:Accessible Board Gaming & Painting
DESCRIPTION:Come down to Walton Options for Accessible Board Gaming & Painting!
URL:https://waltonoptions.org/event/accessible-board-gaming-painting/
LOCATION:Walton Options Center for Disability Rights and Resources\, 948 Walton Way\, Augusta\, GA\, 30901\, United States
CATEGORIES:Hosted by Walton Options,Sports & Leisure Event
ORGANIZER;CN="Walton Options":MAILTO:advocacy@waltonoptions.org
GEO:33.469169;-81.973029
X-APPLE-STRUCTURED-LOCATION;VALUE=URI;X-ADDRESS=Walton Options Center for Disability Rights and Resources 948 Walton Way Augusta GA 30901 United States;X-APPLE-RADIUS=500;X-TITLE=948 Walton Way:geo:-81.973029,33.469169
END:VEVENT
BEGIN:VEVENT
DTSTART;VALUE=DATE:20240619
DTEND;VALUE=DATE:20240620
DTSTAMP:20260424T002033
CREATED:20240425T144926Z
LAST-MODIFIED:20240425T145022Z
UID:10000020-1718755200-1718841599@waltonoptions.org
SUMMARY:Tea with Lisa
DESCRIPTION:Join Lisa and guests every 3rd Wednesday of the month on Walton options Facebook to hear the tea about Disability Resources & Services available in the CSRA.
URL:https://waltonoptions.org/event/8368/2024-06-19/
LOCATION:Online
END:VEVENT
BEGIN:VEVENT
DTSTART;TZID=UTC:20240621T100000
DTEND;TZID=UTC:20240621T120000
DTSTAMP:20260424T002033
CREATED:20240614T143204Z
LAST-MODIFIED:20240614T143204Z
UID:10000041-1718964000-1718971200@waltonoptions.org
SUMMARY:Juneteenth combined senior centers
DESCRIPTION:We will be celebrating Juneteenth at the McDuffie Woods Community Center!
URL:https://waltonoptions.org/event/juneteenth-combined-senior-centers/
LOCATION:McDuffie Woods Community Center\, 431 Old McDuffie Rd\, Augusta\, GA\, 30906\, United States
GEO:33.4359819;-82.0798843
X-APPLE-STRUCTURED-LOCATION;VALUE=URI;X-ADDRESS=McDuffie Woods Community Center 431 Old McDuffie Rd Augusta GA 30906 United States;X-APPLE-RADIUS=500;X-TITLE=431 Old McDuffie Rd:geo:-82.0798843,33.4359819
END:VEVENT
BEGIN:VEVENT
DTSTART;TZID=UTC:20240622T100000
DTEND;TZID=UTC:20240622T140000
DTSTAMP:20260424T002033
CREATED:20240614T151650Z
LAST-MODIFIED:20240614T151650Z
UID:10000042-1719050400-1719064800@waltonoptions.org
SUMMARY:Meet up at The Caravan
DESCRIPTION:Come meet Walton options at our Caravan to learn more about the disability community!
URL:https://waltonoptions.org/event/meet-up-at-the-caravan/
LOCATION:The Augusta Museum of history\, Reynolds Street\, Augusta\, GA\, 30901\, United States
CATEGORIES:Hosted by Walton Options
ORGANIZER;CN="Walton Options":MAILTO:advocacy@waltonoptions.org
GEO:33.4747782;-81.9605536
X-APPLE-STRUCTURED-LOCATION;VALUE=URI;X-ADDRESS=The Augusta Museum of history Reynolds Street Augusta GA 30901 United States;X-APPLE-RADIUS=500;X-TITLE=Reynolds Street:geo:-81.9605536,33.4747782
END:VEVENT
BEGIN:VEVENT
DTSTART;VALUE=DATE:20240627
DTEND;VALUE=DATE:20240628
DTSTAMP:20260424T002033
CREATED:20240614T153325Z
LAST-MODIFIED:20240614T153325Z
UID:10000043-1719446400-1719532799@waltonoptions.org
SUMMARY:SHL Afternoon movie
DESCRIPTION:Come down to Walton Options to join us for a free afternoon movie!
URL:https://waltonoptions.org/event/shl-afternoon-movie/
LOCATION:Walton Options Center for Disability Rights and Resources\, 948 Walton Way\, Augusta\, GA\, 30901\, United States
CATEGORIES:Sports & Leisure Event
ORGANIZER;CN="Walton Options":MAILTO:advocacy@waltonoptions.org
GEO:33.469169;-81.973029
X-APPLE-STRUCTURED-LOCATION;VALUE=URI;X-ADDRESS=Walton Options Center for Disability Rights and Resources 948 Walton Way Augusta GA 30901 United States;X-APPLE-RADIUS=500;X-TITLE=948 Walton Way:geo:-81.973029,33.469169
END:VEVENT
BEGIN:VEVENT
DTSTART;TZID=UTC:20240709T110000
DTEND;TZID=UTC:20240709T120000
DTSTAMP:20260424T002033
CREATED:20240614T165952Z
LAST-MODIFIED:20240614T165952Z
UID:10000047-1720522800-1720526400@waltonoptions.org
SUMMARY:Chair exercise 101
DESCRIPTION:Get ready for a good workout Join our Sports and Leisure Team for Chair Exercise 101! You will be guided through a series of simple yet heart-healthy exercises that will get your blood flowing\, all while seated or using your chair.
URL:https://waltonoptions.org/event/chair-exercise-101-2/2024-07-09/
LOCATION:Walton Options Center for Disability Rights and Resources\, 948 Walton Way\, Augusta\, GA\, 30901\, United States
CATEGORIES:Hosted by Walton Options,Sports & Leisure Event
ORGANIZER;CN="Walton Options":MAILTO:advocacy@waltonoptions.org
GEO:33.469169;-81.973029
X-APPLE-STRUCTURED-LOCATION;VALUE=URI;X-ADDRESS=Walton Options Center for Disability Rights and Resources 948 Walton Way Augusta GA 30901 United States;X-APPLE-RADIUS=500;X-TITLE=948 Walton Way:geo:-81.973029,33.469169
END:VEVENT
BEGIN:VEVENT
DTSTART;TZID=UTC:20240711T080000
DTEND;TZID=UTC:20240711T170000
DTSTAMP:20260424T002033
CREATED:20240321T144257Z
LAST-MODIFIED:20240321T144257Z
UID:10000017-1720684800-1720717200@waltonoptions.org
SUMMARY:Adaptive gaming demo day
DESCRIPTION:Get ready to level up your gaming with the hottest and coolest accessible gaming technology! Our Adaptive Gaming Demo Days will showcase a variety of adaptive controllers\, switches\, and interfaces\, making it possible for every gamer to tailor their experience just for them!\nScan the QR code or click to register
URL:https://waltonoptions.org/event/adaptive-gaming-demo-day/2024-07-11/
LOCATION:Walton Options Augusta Office\, 948 Walton Way\, Augusta\, GA 30901\, USA\, Augusta\, GA\, GA\, 30901\, United States
END:VEVENT
BEGIN:VEVENT
DTSTART;TZID=UTC:20240711T093000
DTEND;TZID=UTC:20240711T120000
DTSTAMP:20260424T002033
CREATED:20240614T170758Z
LAST-MODIFIED:20240614T170758Z
UID:10000049-1720690200-1720699200@waltonoptions.org
SUMMARY:Senior Citizens Center Wash-Wilk
DESCRIPTION:We will be at the Wilkes County Senior Center!
URL:https://waltonoptions.org/event/senior-citizens-center-wash-wilk/
LOCATION:Roy L. Burns Senior Center\, Washington\, GA\, 30673\, United States
GEO:33.7367948;-82.7393089
END:VEVENT
END:VCALENDAR