BEGIN:VCALENDAR
VERSION:2.0
PRODID:-//Walton Options for Independent Living - ECPv6.15.18//NONSGML v1.0//EN
CALSCALE:GREGORIAN
METHOD:PUBLISH
X-WR-CALNAME:Walton Options for Independent Living
X-ORIGINAL-URL:https://waltonoptions.org
X-WR-CALDESC:Events for Walton Options for Independent Living
REFRESH-INTERVAL;VALUE=DURATION:PT1H
X-Robots-Tag:noindex
X-PUBLISHED-TTL:PT1H
BEGIN:VTIMEZONE
TZID:UTC
BEGIN:STANDARD
TZOFFSETFROM:+0000
TZOFFSETTO:+0000
TZNAME:UTC
DTSTART:20250101T000000
END:STANDARD
END:VTIMEZONE
BEGIN:VEVENT
DTSTART;TZID=UTC:20260616T130000
DTEND;TZID=UTC:20260616T153000
DTSTAMP:20260425T162507
CREATED:20260402T162839Z
LAST-MODIFIED:20260402T162839Z
UID:10000873-1781614800-1781623800@waltonoptions.org
SUMMARY:ASL for Families 4 and older
DESCRIPTION:Sign\, Play\, and Connect!\nJoin our family-friendly American Sign Language (ASL) classes and unlock the incredible potential of ASL to connect and communicate. Families will engage in hands-on activities to learn signing skills that promote language development and enhance inclusive communication.
URL:https://waltonoptions.org/event/asl-for-families-4-and-older/2026-06-16/
LOCATION:Walton Options Augusta Office\, 948 Walton Way\, Augusta\, GA 30901\, USA\, Augusta\, GA\, GA\, 30901\, United States
CATEGORIES:Hosted by Walton Options
ATTACH;FMTTYPE=image/jpeg:https://waltonoptions.org/wp-content/uploads/ASL-Flyers-5.jpg
ORGANIZER;CN="Walton Options":MAILTO:advocacy@waltonoptions.org
END:VEVENT
BEGIN:VEVENT
DTSTART;TZID=UTC:20260616T103000
DTEND;TZID=UTC:20260616T120000
DTSTAMP:20260425T162507
CREATED:20260320T152228Z
LAST-MODIFIED:20260402T160050Z
UID:10000868-1781605800-1781611200@waltonoptions.org
SUMMARY:ASL Classes for Families with ages 0-3
DESCRIPTION:Sign\, Play\, and Connect!\nJoin our family-friendly American Sign Language (ASL) classes and unlock the incredible potential of ASL to connect and communicate. Families will engage in hands-on activities to learn signing skills that promote language development and enhance inclusive communication.
URL:https://waltonoptions.org/event/asl-classes-for-families-with-ages-0-3/2026-06-16/
LOCATION:Walton Options Augusta Office\, 948 Walton Way\, Augusta\, GA 30901\, USA\, Augusta\, GA\, GA\, 30901\, United States
CATEGORIES:Hosted by Walton Options
ATTACH;FMTTYPE=image/jpeg:https://waltonoptions.org/wp-content/uploads/ASL-Flyers-4.jpg
ORGANIZER;CN="Walton Options":MAILTO:advocacy@waltonoptions.org
END:VEVENT
BEGIN:VEVENT
DTSTART;TZID=UTC:20260613T110000
DTEND;TZID=UTC:20260613T150000
DTSTAMP:20260425T162507
CREATED:20260312T182131Z
LAST-MODIFIED:20260312T182131Z
UID:10000840-1781348400-1781362800@waltonoptions.org
SUMMARY:Adaptive gaming
DESCRIPTION:This event is an absolute must-see for anyone who wants to peek into the future of accessible gaming. This event is free\, but registration is required.
URL:https://waltonoptions.org/event/adaptive-gaming-14/
LOCATION:Walton Options Augusta Office\, 948 Walton Way\, Augusta\, GA 30901\, USA\, Augusta\, GA\, GA\, 30901\, United States
CATEGORIES:Hosted by Walton Options
END:VEVENT
BEGIN:VEVENT
DTSTART;TZID=UTC:20260613T080000
DTEND;TZID=UTC:20260613T170000
DTSTAMP:20260425T162507
CREATED:20260210T190330Z
LAST-MODIFIED:20260210T190330Z
UID:10000829-1781337600-1781370000@waltonoptions.org
SUMMARY:Catalyst Sports: 1 on 1 Cycling
DESCRIPTION:Catalyst Sports is thrilled to bring adaptive cycling\, mountain biking\, and paddling to the vibrant Augusta community. Whether you’re looking to explore the outdoors\, challenge yourself\, or simply have fun\, our events are designed to help you access nature in a supportive and inclusive environment. \n​ \nWith state-of-the-art adaptive equipment\, trained volunteers\, and a welcoming community\, we’re here to ensure everyone has the chance to enjoy the freedom of outdoor recreation. \nContact Our Adaptive Sports Coordinator today for more information and assistance signing up: \n706.724.6262 \nor Lynn Seidemann at LSeidemann@waltonoptions.org \nwww.catalystsports.org/augusta \n 
URL:https://waltonoptions.org/event/catalyst-sports-1-on-1-cycling/2026-06-13/
LOCATION:GA
CATEGORIES:Sports & Leisure Event
END:VEVENT
BEGIN:VEVENT
DTSTART;TZID=UTC:20260609T130000
DTEND;TZID=UTC:20260609T153000
DTSTAMP:20260425T162507
CREATED:20260402T162839Z
LAST-MODIFIED:20260402T162839Z
UID:10000872-1781010000-1781019000@waltonoptions.org
SUMMARY:ASL for Families 4 and older
DESCRIPTION:Sign\, Play\, and Connect!\nJoin our family-friendly American Sign Language (ASL) classes and unlock the incredible potential of ASL to connect and communicate. Families will engage in hands-on activities to learn signing skills that promote language development and enhance inclusive communication.
URL:https://waltonoptions.org/event/asl-for-families-4-and-older/2026-06-09/
LOCATION:Walton Options Augusta Office\, 948 Walton Way\, Augusta\, GA 30901\, USA\, Augusta\, GA\, GA\, 30901\, United States
CATEGORIES:Hosted by Walton Options
ATTACH;FMTTYPE=image/jpeg:https://waltonoptions.org/wp-content/uploads/ASL-Flyers-5.jpg
ORGANIZER;CN="Walton Options":MAILTO:advocacy@waltonoptions.org
END:VEVENT
BEGIN:VEVENT
DTSTART;TZID=UTC:20260609T103000
DTEND;TZID=UTC:20260609T120000
DTSTAMP:20260425T162507
CREATED:20260320T152228Z
LAST-MODIFIED:20260402T160050Z
UID:10000867-1781001000-1781006400@waltonoptions.org
SUMMARY:ASL Classes for Families with ages 0-3
DESCRIPTION:Sign\, Play\, and Connect!\nJoin our family-friendly American Sign Language (ASL) classes and unlock the incredible potential of ASL to connect and communicate. Families will engage in hands-on activities to learn signing skills that promote language development and enhance inclusive communication.
URL:https://waltonoptions.org/event/asl-classes-for-families-with-ages-0-3/2026-06-09/
LOCATION:Walton Options Augusta Office\, 948 Walton Way\, Augusta\, GA 30901\, USA\, Augusta\, GA\, GA\, 30901\, United States
CATEGORIES:Hosted by Walton Options
ATTACH;FMTTYPE=image/jpeg:https://waltonoptions.org/wp-content/uploads/ASL-Flyers-4.jpg
ORGANIZER;CN="Walton Options":MAILTO:advocacy@waltonoptions.org
END:VEVENT
BEGIN:VEVENT
DTSTART;TZID=UTC:20260602T130000
DTEND;TZID=UTC:20260602T153000
DTSTAMP:20260425T162507
CREATED:20260402T162839Z
LAST-MODIFIED:20260402T162839Z
UID:10000871-1780405200-1780414200@waltonoptions.org
SUMMARY:ASL for Families 4 and older
DESCRIPTION:Sign\, Play\, and Connect!\nJoin our family-friendly American Sign Language (ASL) classes and unlock the incredible potential of ASL to connect and communicate. Families will engage in hands-on activities to learn signing skills that promote language development and enhance inclusive communication.
URL:https://waltonoptions.org/event/asl-for-families-4-and-older/2026-06-02/
LOCATION:Walton Options Augusta Office\, 948 Walton Way\, Augusta\, GA 30901\, USA\, Augusta\, GA\, GA\, 30901\, United States
CATEGORIES:Hosted by Walton Options
ATTACH;FMTTYPE=image/jpeg:https://waltonoptions.org/wp-content/uploads/ASL-Flyers-5.jpg
ORGANIZER;CN="Walton Options":MAILTO:advocacy@waltonoptions.org
END:VEVENT
BEGIN:VEVENT
DTSTART;TZID=UTC:20260602T103000
DTEND;TZID=UTC:20260602T120000
DTSTAMP:20260425T162507
CREATED:20260320T152228Z
LAST-MODIFIED:20260402T160050Z
UID:10000866-1780396200-1780401600@waltonoptions.org
SUMMARY:ASL Classes for Families with ages 0-3
DESCRIPTION:Sign\, Play\, and Connect!\nJoin our family-friendly American Sign Language (ASL) classes and unlock the incredible potential of ASL to connect and communicate. Families will engage in hands-on activities to learn signing skills that promote language development and enhance inclusive communication.
URL:https://waltonoptions.org/event/asl-classes-for-families-with-ages-0-3/2026-06-02/
LOCATION:Walton Options Augusta Office\, 948 Walton Way\, Augusta\, GA 30901\, USA\, Augusta\, GA\, GA\, 30901\, United States
CATEGORIES:Hosted by Walton Options
ATTACH;FMTTYPE=image/jpeg:https://waltonoptions.org/wp-content/uploads/ASL-Flyers-4.jpg
ORGANIZER;CN="Walton Options":MAILTO:advocacy@waltonoptions.org
END:VEVENT
BEGIN:VEVENT
DTSTART;TZID=UTC:20260531T093000
DTEND;TZID=UTC:20260531T113000
DTSTAMP:20260425T162507
CREATED:20260210T181453Z
LAST-MODIFIED:20260210T181453Z
UID:10000816-1780219800-1780227000@waltonoptions.org
SUMMARY:Catalyst Sports: Cycling
DESCRIPTION:Catalyst Sports is thrilled to bring adaptive cycling\, mountain biking\, and paddling to the vibrant Augusta community. Whether you’re looking to explore the outdoors\, challenge yourself\, or simply have fun\, our events are designed to help you access nature in a supportive and inclusive environment. \n​ \nWith state-of-the-art adaptive equipment\, trained volunteers\, and a welcoming community\, we’re here to ensure everyone has the chance to enjoy the freedom of outdoor recreation. \nContact Our Adaptive Sports Coordinator today for more information and assistance signing up: \n706.724.6262 \nor Lynn Seidemann at LSeidemann@waltonoptions.org \nwww.catalystsports.org/augusta \n 
URL:https://waltonoptions.org/event/catalyst-sports-amtb-mountain-biking-2/
LOCATION:Hammond’s Ferry Soccer Complex\, Hammonds Ferry Rd\, North Augusta\, SC\, 29841\, United States
CATEGORIES:Sports & Leisure Event
GEO:33.4946539;-81.9873549
X-APPLE-STRUCTURED-LOCATION;VALUE=URI;X-ADDRESS=Hammond’s Ferry Soccer Complex Hammonds Ferry Rd North Augusta SC 29841 United States;X-APPLE-RADIUS=500;X-TITLE=Hammonds Ferry Rd:geo:-81.9873549,33.4946539
END:VEVENT
BEGIN:VEVENT
DTSTART;TZID=UTC:20260519T110000
DTEND;TZID=UTC:20260519T123000
DTSTAMP:20260425T162507
CREATED:20260417T133154Z
LAST-MODIFIED:20260417T133154Z
UID:10000882-1779188400-1779193800@waltonoptions.org
SUMMARY:Fall Prevention Workshop
DESCRIPTION:
URL:https://waltonoptions.org/event/fall-prevention-workshop-2/
LOCATION:GA
CATEGORIES:Hosted by Walton Options
END:VEVENT
BEGIN:VEVENT
DTSTART;TZID=UTC:20260516T110000
DTEND;TZID=UTC:20260516T150000
DTSTAMP:20260425T162507
CREATED:20260312T181457Z
LAST-MODIFIED:20260312T181457Z
UID:10000839-1778929200-1778943600@waltonoptions.org
SUMMARY:Adaptive gaming
DESCRIPTION:This event is an absolute must-see for anyone who wants to peek into the future of accessible gaming. This event is free\, but registration is required.
URL:https://waltonoptions.org/event/adaptive-gaming-13/
LOCATION:Walton Options Augusta Office\, 948 Walton Way\, Augusta\, GA 30901\, USA\, Augusta\, GA\, GA\, 30901\, United States
CATEGORIES:Hosted by Walton Options
ORGANIZER;CN="Walton Options":MAILTO:advocacy@waltonoptions.org
END:VEVENT
BEGIN:VEVENT
DTSTART;TZID=UTC:20260516T080000
DTEND;TZID=UTC:20260516T170000
DTSTAMP:20260425T162507
CREATED:20260210T185041Z
LAST-MODIFIED:20260210T185041Z
UID:10000821-1778918400-1778950800@waltonoptions.org
SUMMARY:Catalyst Sports: 1 on 1 Kayaking
DESCRIPTION:Catalyst Sports is thrilled to bring adaptive cycling\, mountain biking\, and paddling to the vibrant Augusta community. Whether you’re looking to explore the outdoors\, challenge yourself\, or simply have fun\, our events are designed to help you access nature in a supportive and inclusive environment. \n​ \nWith state-of-the-art adaptive equipment\, trained volunteers\, and a welcoming community\, we’re here to ensure everyone has the chance to enjoy the freedom of outdoor recreation. \nContact Our Adaptive Sports Coordinator today for more information and assistance signing up: \n706.724.6262 \nor Lynn Seidemann at LSeidemann@waltonoptions.org \nwww.catalystsports.org/augusta \n 
URL:https://waltonoptions.org/event/catalyst-sports-1-on-1-kayaking/2026-05-16/
LOCATION:GA
CATEGORIES:Sports & Leisure Event
END:VEVENT
BEGIN:VEVENT
DTSTART;TZID=UTC:20260512T110000
DTEND;TZID=UTC:20260512T120000
DTSTAMP:20260425T162507
CREATED:20260424T135348Z
LAST-MODIFIED:20260424T140026Z
UID:10000883-1778583600-1778587200@waltonoptions.org
SUMMARY:Living Will Workshop
DESCRIPTION:Join Walton Options and Georgia Legal for an informative session on Living Wills. \n  \nLearn the do’s and don’ts of creating these important documents \n  \nDiscover how to express your medical consent when you can’t communicate your wishes. \n  \nUnderstand the process\, legal considerations\, and the impact of living wills on healthcare decisions. \n 
URL:https://waltonoptions.org/event/living-will-workshop/
LOCATION:Walton Options Augusta Office\, 948 Walton Way\, Augusta\, GA 30901\, USA\, Augusta\, GA\, GA\, 30901\, United States
ATTACH;FMTTYPE=image/jpeg:https://waltonoptions.org/wp-content/uploads/Living-Will-Workshop-1.jpg
END:VEVENT
BEGIN:VEVENT
DTSTART;TZID=UTC:20260509T080000
DTEND;TZID=UTC:20260509T170000
DTSTAMP:20260425T162507
CREATED:20260210T190330Z
LAST-MODIFIED:20260210T190330Z
UID:10000828-1778313600-1778346000@waltonoptions.org
SUMMARY:Catalyst Sports: 1 on 1 Cycling
DESCRIPTION:Catalyst Sports is thrilled to bring adaptive cycling\, mountain biking\, and paddling to the vibrant Augusta community. Whether you’re looking to explore the outdoors\, challenge yourself\, or simply have fun\, our events are designed to help you access nature in a supportive and inclusive environment. \n​ \nWith state-of-the-art adaptive equipment\, trained volunteers\, and a welcoming community\, we’re here to ensure everyone has the chance to enjoy the freedom of outdoor recreation. \nContact Our Adaptive Sports Coordinator today for more information and assistance signing up: \n706.724.6262 \nor Lynn Seidemann at LSeidemann@waltonoptions.org \nwww.catalystsports.org/augusta \n 
URL:https://waltonoptions.org/event/catalyst-sports-1-on-1-cycling/2026-05-09/
LOCATION:GA
CATEGORIES:Sports & Leisure Event
END:VEVENT
BEGIN:VEVENT
DTSTART;TZID=UTC:20260501T100000
DTEND;TZID=UTC:20260501T140000
DTSTAMP:20260425T162507
CREATED:20260320T151545Z
LAST-MODIFIED:20260320T151545Z
UID:10000852-1777629600-1777644000@waltonoptions.org
SUMMARY:Community Wellness Fair
DESCRIPTION:We will be at the Community Wellness Fair\, stop by our table! 
URL:https://waltonoptions.org/event/community-wellness-fair-2/
LOCATION:Warren county public library\, 10 Warren St\, Warrenton\, GA\, 30828\, United States
GEO:33.4080827;-82.6611295
X-APPLE-STRUCTURED-LOCATION;VALUE=URI;X-ADDRESS=Warren county public library 10 Warren St Warrenton GA 30828 United States;X-APPLE-RADIUS=500;X-TITLE=10 Warren St:geo:-82.6611295,33.4080827
END:VEVENT
BEGIN:VEVENT
DTSTART;TZID=UTC:20260428T173000
DTEND;TZID=UTC:20260428T180000
DTSTAMP:20260425T162507
CREATED:20260407T150533Z
LAST-MODIFIED:20260407T150533Z
UID:10000879-1777397400-1777399200@waltonoptions.org
SUMMARY:Family learning session
DESCRIPTION:
URL:https://waltonoptions.org/event/family-learning-session-2/
LOCATION:GA
CATEGORIES:Online Webinar,Virtual Event
ATTACH;FMTTYPE=image/jpeg:https://waltonoptions.org/wp-content/uploads/Flyer-April-Family-Learning-Session-4.28.26_Page_1-scaled.jpg
END:VEVENT
BEGIN:VEVENT
DTSTART;TZID=UTC:20260428T120000
DTEND;TZID=UTC:20260428T123000
DTSTAMP:20260425T162507
CREATED:20260408T145135Z
LAST-MODIFIED:20260408T145803Z
UID:10000881-1777377600-1777379400@waltonoptions.org
SUMMARY:Family Learning Session
DESCRIPTION:
URL:https://waltonoptions.org/event/family-learning-session/
LOCATION:GA
CATEGORIES:Online Webinar,Virtual Event
ATTACH;FMTTYPE=image/jpeg:https://waltonoptions.org/wp-content/uploads/Flyer-April-Family-Learning-Session-4.28.26_Page_1-scaled.jpg
END:VEVENT
BEGIN:VEVENT
DTSTART;TZID=UTC:20260425T110000
DTEND;TZID=UTC:20260425T150000
DTSTAMP:20260425T162507
CREATED:20260319T161824Z
LAST-MODIFIED:20260319T161824Z
UID:10000851-1777114800-1777129200@waltonoptions.org
SUMMARY:Adaptive gaming
DESCRIPTION:This event is an absolute must-see for anyone who wants to peek into the future of accessible gaming. This event is free\, but registration is required.
URL:https://waltonoptions.org/event/adaptive-gaming-22/
LOCATION:Walton Options Augusta Office\, 948 Walton Way\, Augusta\, GA 30901\, USA\, Augusta\, GA\, GA\, 30901\, United States
CATEGORIES:Hosted by Walton Options
ORGANIZER;CN="Walton Options":MAILTO:advocacy@waltonoptions.org
END:VEVENT
BEGIN:VEVENT
DTSTART;TZID=UTC:20260423T100000
DTEND;TZID=UTC:20260423T140000
DTSTAMP:20260425T162507
CREATED:20260311T152212Z
LAST-MODIFIED:20260311T152212Z
UID:10000838-1776938400-1776952800@waltonoptions.org
SUMMARY:10th Annual CSS Resource Fair
DESCRIPTION:We will be at the 10th Annual CSS Resource Fair\, come find our table!
URL:https://waltonoptions.org/event/10th-annual-css-resource-fair/
LOCATION:May Park Community Center\, 622 4th St\, Augusta\, GA\, 30901\, United States
GEO:33.4653483;-81.9593191
X-APPLE-STRUCTURED-LOCATION;VALUE=URI;X-ADDRESS=May Park Community Center 622 4th St Augusta GA 30901 United States;X-APPLE-RADIUS=500;X-TITLE=622 4th St:geo:-81.9593191,33.4653483
END:VEVENT
BEGIN:VEVENT
DTSTART;TZID=UTC:20260418T120000
DTEND;TZID=UTC:20260418T140000
DTSTAMP:20260425T162507
CREATED:20260210T181047Z
LAST-MODIFIED:20260210T181047Z
UID:10000815-1776513600-1776520800@waltonoptions.org
SUMMARY:Catalyst Sports: Kayaking
DESCRIPTION:Catalyst Sports is thrilled to bring adaptive cycling\, mountain biking\, and paddling to the vibrant Augusta community. Whether you’re looking to explore the outdoors\, challenge yourself\, or simply have fun\, our events are designed to help you access nature in a supportive and inclusive environment. \n​ \nWith state-of-the-art adaptive equipment\, trained volunteers\, and a welcoming community\, we’re here to ensure everyone has the chance to enjoy the freedom of outdoor recreation. \nContact Our Adaptive Sports Coordinator today for more information and assistance signing up: \n706.724.6262 \nor Lynn Seidemann at LSeidemann@waltonoptions.org \nwww.catalystsports.org/augusta
URL:https://waltonoptions.org/event/catalyst-sports-kayaking-3/
LOCATION:TENTATIVE Riverside Park\, 1 Dolphin Way\, Evans\, GA\, 30809\, United States
CATEGORIES:Sports & Leisure Event
END:VEVENT
BEGIN:VEVENT
DTSTART;TZID=UTC:20260413T110000
DTEND;TZID=UTC:20260413T123000
DTSTAMP:20260425T162507
CREATED:20260402T171252Z
LAST-MODIFIED:20260407T175752Z
UID:10000876-1776078000-1776083400@waltonoptions.org
SUMMARY:Ga vote 101
DESCRIPTION:Vote Ready Preparation\nThis training will concentrate on the current voting procedures in the state of Georgia.\nThe training will cover the following topics:\n\nRegistering to Vote in Georgia: What actions are legally permissible?\nAssisting Others: Who can be helped with voter registration?\nNursing Home Voting: Registration and absentee ballot submission processes.\nAbsentee Voting: Understanding the process.\nRequesting a Ballot: How to properly request a ballot.\nReturning the Ballot: Steps for submitting the completed ballot.
URL:https://waltonoptions.org/event/ga-vote-101/
LOCATION:GA
CATEGORIES:Hosted by Walton Options
ATTACH;FMTTYPE=image/jpeg:https://waltonoptions.org/wp-content/uploads/GA-Vote-101-1.jpg
END:VEVENT
BEGIN:VEVENT
DTSTART;TZID=UTC:20260411T080000
DTEND;TZID=UTC:20260411T170000
DTSTAMP:20260425T162507
CREATED:20260210T190330Z
LAST-MODIFIED:20260210T190330Z
UID:10000827-1775894400-1775926800@waltonoptions.org
SUMMARY:Catalyst Sports: 1 on 1 Cycling
DESCRIPTION:Catalyst Sports is thrilled to bring adaptive cycling\, mountain biking\, and paddling to the vibrant Augusta community. Whether you’re looking to explore the outdoors\, challenge yourself\, or simply have fun\, our events are designed to help you access nature in a supportive and inclusive environment. \n​ \nWith state-of-the-art adaptive equipment\, trained volunteers\, and a welcoming community\, we’re here to ensure everyone has the chance to enjoy the freedom of outdoor recreation. \nContact Our Adaptive Sports Coordinator today for more information and assistance signing up: \n706.724.6262 \nor Lynn Seidemann at LSeidemann@waltonoptions.org \nwww.catalystsports.org/augusta \n 
URL:https://waltonoptions.org/event/catalyst-sports-1-on-1-cycling/2026-04-11/
LOCATION:GA
CATEGORIES:Sports & Leisure Event
END:VEVENT
BEGIN:VEVENT
DTSTART;TZID=UTC:20260328T120000
DTEND;TZID=UTC:20260328T140000
DTSTAMP:20260425T162507
CREATED:20260210T180755Z
LAST-MODIFIED:20260210T180755Z
UID:10000814-1774699200-1774706400@waltonoptions.org
SUMMARY:Catalyst Sports: aMTB Mountain Biking
DESCRIPTION:Catalyst Sports is thrilled to bring adaptive cycling\, mountain biking\, and paddling to the vibrant Augusta community. Whether you’re looking to explore the outdoors\, challenge yourself\, or simply have fun\, our events are designed to help you access nature in a supportive and inclusive environment. \n​ \nWith state-of-the-art adaptive equipment\, trained volunteers\, and a welcoming community\, we’re here to ensure everyone has the chance to enjoy the freedom of outdoor recreation. \nContact Our Adaptive Sports Coordinator today for more information and assistance signing up: \n706.724.6262 \nor Lynn Seidemann at LSeidemann@waltonoptions.org \nwww.catalystsports.org/augusta \n 
URL:https://waltonoptions.org/event/catalyst-sports-amtb-mountain-biking/
LOCATION:Phinizy Swamp\, 1858 Lock and Dam Rd\, Augusta\, GA\, 30906\, United States
CATEGORIES:Sports & Leisure Event
GEO:33.3856624;-81.9638668
X-APPLE-STRUCTURED-LOCATION;VALUE=URI;X-ADDRESS=Phinizy Swamp 1858 Lock and Dam Rd Augusta GA 30906 United States;X-APPLE-RADIUS=500;X-TITLE=1858 Lock and Dam Rd:geo:-81.9638668,33.3856624
END:VEVENT
BEGIN:VEVENT
DTSTART;TZID=UTC:20260325T100000
DTEND;TZID=UTC:20260325T113000
DTSTAMP:20260425T162507
CREATED:20260311T151545Z
LAST-MODIFIED:20260317T144729Z
UID:10000837-1774432800-1774438200@waltonoptions.org
SUMMARY:Aging services Medicare workshop
DESCRIPTION:The Division of Aging service’s Georgia State Health Insurance Assistance Program is to educate your staff and the participants on resources available through the division of Aging Services. This includes education on Medicare\, preventive and wellness services\, and financial assistance programs. 
URL:https://waltonoptions.org/event/aging-services-medicare-workshop/
LOCATION:Walton Options Augusta Office\, 948 Walton Way\, Augusta\, GA 30901\, USA\, Augusta\, GA\, GA\, 30901\, United States
END:VEVENT
BEGIN:VEVENT
DTSTART;TZID=UTC:20260321T123000
DTEND;TZID=UTC:20260321T190000
DTSTAMP:20260425T162507
CREATED:20260319T133750Z
LAST-MODIFIED:20260319T133750Z
UID:10000850-1774096200-1774119600@waltonoptions.org
SUMMARY:The Augusta Video Gaming Exposition
DESCRIPTION:We will be at the Augusta Video Gaming Exposition\, stop by our table!
URL:https://waltonoptions.org/event/the-augusta-video-gaming-exposition/
LOCATION:DoubleTree by Hilton Hotel Augusta\, 2651 Perimeter Pkwy\, Augusta\, GA\, 30909\, United States
GEO:33.4859589;-82.0846985
X-APPLE-STRUCTURED-LOCATION;VALUE=URI;X-ADDRESS=DoubleTree by Hilton Hotel Augusta 2651 Perimeter Pkwy Augusta GA 30909 United States;X-APPLE-RADIUS=500;X-TITLE=2651 Perimeter Pkwy:geo:-82.0846985,33.4859589
END:VEVENT
BEGIN:VEVENT
DTSTART;TZID=UTC:20260314T080000
DTEND;TZID=UTC:20260314T170000
DTSTAMP:20260425T162507
CREATED:20260210T190330Z
LAST-MODIFIED:20260210T190330Z
UID:10000826-1773475200-1773507600@waltonoptions.org
SUMMARY:Catalyst Sports: 1 on 1 Cycling
DESCRIPTION:Catalyst Sports is thrilled to bring adaptive cycling\, mountain biking\, and paddling to the vibrant Augusta community. Whether you’re looking to explore the outdoors\, challenge yourself\, or simply have fun\, our events are designed to help you access nature in a supportive and inclusive environment. \n​ \nWith state-of-the-art adaptive equipment\, trained volunteers\, and a welcoming community\, we’re here to ensure everyone has the chance to enjoy the freedom of outdoor recreation. \nContact Our Adaptive Sports Coordinator today for more information and assistance signing up: \n706.724.6262 \nor Lynn Seidemann at LSeidemann@waltonoptions.org \nwww.catalystsports.org/augusta \n 
URL:https://waltonoptions.org/event/catalyst-sports-1-on-1-cycling/2026-03-14/
LOCATION:GA
CATEGORIES:Sports & Leisure Event
END:VEVENT
BEGIN:VEVENT
DTSTART;TZID=UTC:20260313T110000
DTEND;TZID=UTC:20260313T150000
DTSTAMP:20260425T162507
CREATED:20260313T132613Z
LAST-MODIFIED:20260313T132613Z
UID:10000845-1773399600-1773414000@waltonoptions.org
SUMMARY:Adaptive gaming
DESCRIPTION:This event is an absolute must-see for anyone who wants to peek into the future of accessible gaming. This event is free\, but registration is required.
URL:https://waltonoptions.org/event/adaptive-gaming-19/
LOCATION:Walton Options Augusta Office\, 948 Walton Way\, Augusta\, GA 30901\, USA\, Augusta\, GA\, GA\, 30901\, United States
CATEGORIES:Hosted by Walton Options
ORGANIZER;CN="Walton Options":MAILTO:advocacy@waltonoptions.org
END:VEVENT
BEGIN:VEVENT
DTSTART;TZID=UTC:20260306T140000
DTEND;TZID=UTC:20260306T160000
DTSTAMP:20260425T162507
CREATED:20260302T180800Z
LAST-MODIFIED:20260302T180800Z
UID:10000836-1772805600-1772812800@waltonoptions.org
SUMMARY:Milano Cortina 2026 Paralympic Opening Ceremony Watch Party
DESCRIPTION:Join us at Top Dawg Tavern to cheer on and celebrate Team USA! Come enjoy delicious food\, engaging games\, and exciting prizes.
URL:https://waltonoptions.org/event/milano-cortina-2026-paralympic-opening-ceremony-watch-party/
LOCATION:TOP DAWG TAVERN\, 2821 Washington Rd\, Augusta\, GA\, 30909\, United States
CATEGORIES:External Event,Hosted by Walton Options
ORGANIZER;CN="Walton Options":MAILTO:advocacy@waltonoptions.org
GEO:33.5109242;-82.0314226
X-APPLE-STRUCTURED-LOCATION;VALUE=URI;X-ADDRESS=TOP DAWG TAVERN 2821 Washington Rd Augusta GA 30909 United States;X-APPLE-RADIUS=500;X-TITLE=2821 Washington Rd:geo:-82.0314226,33.5109242
END:VEVENT
BEGIN:VEVENT
DTSTART;TZID=UTC:20260228T123000
DTEND;TZID=UTC:20260228T150000
DTSTAMP:20260425T162507
CREATED:20260115T163606Z
LAST-MODIFIED:20260122T173735Z
UID:10000544-1772281800-1772290800@waltonoptions.org
SUMMARY:Love shouldn't hurt: Workshop
DESCRIPTION:Unlock your inner energy and begin the journey towards emotional healing and renewed strength at this year’s Love Shouldn’t Hurt\, Healing Through Art a Guided painting workshop. This event welcomes survivors\, family members\, and loved ones of individuals who have faced domestic disability\, and/or elder abuse. \n*Refreshments and Community Resources will be provided \nSaturday\, February 28th \n12:30 PM to 3:00 PM \n739 Greene St\, Augusta\, GA 30901 \nThe Jessye Norman School of the Arts \nPresented by Walton Options & The Jessye Norman School of the Arts \n  \n>>>>>>>>>>>>>>>>>>>>>>>>>>>>>>>>>>>>>>>>>>>>>>>>>>>>>>>>>>>>>>>>>>>>>>>>>>>>> \nThis event is free\, but registration is required due to limited seating. \nFor more information\, please call 706-724-6262 or visit waltonoptions.org. If you have a disability and require reasonable accommodation to participate in this event\, please contact us by February 16th\, 2026.  \nIf this event is offered in-person only!
URL:https://waltonoptions.org/event/love-shouldnt-hurt-workshop/
LOCATION:The Jessye Norman School of the Arts\, 739 Greene St\, Augusta\, GA\, 30901\, United States
CATEGORIES:External Event,Hosted by Walton Options
GEO:33.4735026;-81.9658828
X-APPLE-STRUCTURED-LOCATION;VALUE=URI;X-ADDRESS=The Jessye Norman School of the Arts 739 Greene St Augusta GA 30901 United States;X-APPLE-RADIUS=500;X-TITLE=739 Greene St:geo:-81.9658828,33.4735026
END:VEVENT
BEGIN:VEVENT
DTSTART;TZID=UTC:20260228T120000
DTEND;TZID=UTC:20260228T140000
DTSTAMP:20260425T162507
CREATED:20260210T175508Z
LAST-MODIFIED:20260210T191012Z
UID:10000835-1772280000-1772287200@waltonoptions.org
SUMMARY:Catalyst Sports: Cycling
DESCRIPTION:Catalyst Sports is thrilled to bring adaptive cycling\, mountain biking\, and paddling to the vibrant Augusta community. Whether you’re looking to explore the outdoors\, challenge yourself\, or simply have fun\, our events are designed to help you access nature in a supportive and inclusive environment. \n​ \nWith state-of-the-art adaptive equipment\, trained volunteers\, and a welcoming community\, we’re here to ensure everyone has the chance to enjoy the freedom of outdoor recreation. \nContact Our Adaptive Sports Coordinator today for more information and assistance signing up: \n706.724.6262 \nor Lynn Seidemann at LSeidemann@waltonoptions.org \nwww.catalystsports.org/augusta \n 
URL:https://waltonoptions.org/event/catalyst-sports-cycling/
LOCATION:Hammond’s Ferry Soccer Complex\, Hammonds Ferry Rd\, North Augusta\, SC\, 29841\, United States
CATEGORIES:Sports & Leisure Event
GEO:33.4946539;-81.9873549
X-APPLE-STRUCTURED-LOCATION;VALUE=URI;X-ADDRESS=Hammond’s Ferry Soccer Complex Hammonds Ferry Rd North Augusta SC 29841 United States;X-APPLE-RADIUS=500;X-TITLE=Hammonds Ferry Rd:geo:-81.9873549,33.4946539
END:VEVENT
END:VCALENDAR