BEGIN:VCALENDAR
VERSION:2.0
PRODID:-//Walton Options for Independent Living - ECPv6.15.18//NONSGML v1.0//EN
CALSCALE:GREGORIAN
METHOD:PUBLISH
X-ORIGINAL-URL:https://waltonoptions.org
X-WR-CALDESC:Events for Walton Options for Independent Living
REFRESH-INTERVAL;VALUE=DURATION:PT1H
X-Robots-Tag:noindex
X-PUBLISHED-TTL:PT1H
BEGIN:VTIMEZONE
TZID:UTC
BEGIN:STANDARD
TZOFFSETFROM:+0000
TZOFFSETTO:+0000
TZNAME:UTC
DTSTART:20250101T000000
END:STANDARD
END:VTIMEZONE
BEGIN:VEVENT
DTSTART;TZID=UTC:20260423T100000
DTEND;TZID=UTC:20260423T140000
DTSTAMP:20260423T212215
CREATED:20260311T152212Z
LAST-MODIFIED:20260311T152212Z
UID:10000838-1776938400-1776952800@waltonoptions.org
SUMMARY:10th Annual CSS Resource Fair
DESCRIPTION:We will be at the 10th Annual CSS Resource Fair\, come find our table!
URL:https://waltonoptions.org/event/10th-annual-css-resource-fair/
LOCATION:May Park Community Center\, 622 4th St\, Augusta\, GA\, 30901\, United States
GEO:33.4653483;-81.9593191
X-APPLE-STRUCTURED-LOCATION;VALUE=URI;X-ADDRESS=May Park Community Center 622 4th St Augusta GA 30901 United States;X-APPLE-RADIUS=500;X-TITLE=622 4th St:geo:-81.9593191,33.4653483
END:VEVENT
BEGIN:VEVENT
DTSTART;TZID=UTC:20260425T110000
DTEND;TZID=UTC:20260425T150000
DTSTAMP:20260423T212215
CREATED:20260319T161824Z
LAST-MODIFIED:20260319T161824Z
UID:10000851-1777114800-1777129200@waltonoptions.org
SUMMARY:Adaptive gaming
DESCRIPTION:This event is an absolute must-see for anyone who wants to peek into the future of accessible gaming. This event is free\, but registration is required.
URL:https://waltonoptions.org/event/adaptive-gaming-22/
LOCATION:Walton Options Augusta Office\, 948 Walton Way\, Augusta\, GA 30901\, USA\, Augusta\, GA\, GA\, 30901\, United States
CATEGORIES:Hosted by Walton Options
ORGANIZER;CN="Walton Options":MAILTO:advocacy@waltonoptions.org
END:VEVENT
END:VCALENDAR